BEGIN:VCALENDAR
VERSION:2.0
PRODID:-//sebbo.net//ical-generator//EN
URL:https://www.mytischtennis.de/community/exportICSCalendar?teamIds=30336
 62
NAME:Termine von TTC Langen-Brombach IV
X-WR-CALNAME:Termine von TTC Langen-Brombach IV
TIMEZONE-ID:Europe/Berlin
X-WR-TIMEZONE:Europe/Berlin
BEGIN:VEVENT
UID:5deff504-ca80-4c09-826c-2e699141d907
SEQUENCE:0
DTSTAMP:20260420T171712
DTSTART;TZID=Europe/Berlin:20250905T203000
DTEND;TZID=Europe/Berlin:20250905T233000
SUMMARY:TTC Langen-Brombach IV vs spielfrei*
DESCRIPTION:Vorrunde
END:VEVENT
BEGIN:VEVENT
UID:e388a870-2fdf-4503-a6c4-1bd073074d48
SEQUENCE:0
DTSTAMP:20260420T171712
DTSTART;TZID=Europe/Berlin:20251213T180000
DTEND;TZID=Europe/Berlin:20251213T210000
SUMMARY:TTC Langen-Brombach IV vs TV 1858 Beerfelden II
DESCRIPTION:Vorrunde
END:VEVENT
END:VCALENDAR