BEGIN:VCALENDAR
VERSION:2.0
PRODID:-//sebbo.net//ical-generator//EN
URL:https://www.mytischtennis.de/community/exportICSCalendar?teamIds=30326
 52
NAME:Termine von TTC Langen-Brombach
X-WR-CALNAME:Termine von TTC Langen-Brombach
TIMEZONE-ID:Europe/Berlin
X-WR-TIMEZONE:Europe/Berlin
BEGIN:VEVENT
UID:f89ad497-c6cb-43ac-984f-6dc5f7afc6fa
SEQUENCE:0
DTSTAMP:20260421T040424
DTSTART;TZID=Europe/Berlin:20250920T133000
DTEND;TZID=Europe/Berlin:20250920T163000
SUMMARY:TTC Langen-Brombach vs KSV Reichelsheim 1892
LOCATION:Hallenanbau der Sporthalle Kirchbrombach\, Johann-Adam-Groh-Stra
 ße 2\, 64753 Brombachtal / Kirchbrombach\, Deutschland
DESCRIPTION:Vorrunde
END:VEVENT
BEGIN:VEVENT
UID:9c315841-e13a-4036-8718-f0b9f4189508
SEQUENCE:0
DTSTAMP:20260421T040424
DTSTART;TZID=Europe/Berlin:20251214T100000
DTEND;TZID=Europe/Berlin:20251214T130000
SUMMARY:TV 1858 Beerfelden vs TTC Langen-Brombach
DESCRIPTION:Vorrunde
END:VEVENT
END:VCALENDAR