BEGIN:VCALENDAR
VERSION:2.0
PRODID:-//sebbo.net//ical-generator//EN
URL:https://www.mytischtennis.de/community/exportICSCalendar?teamIds=30109
 33
NAME:Termine von Post SV Augsburg III
X-WR-CALNAME:Termine von Post SV Augsburg III
TIMEZONE-ID:Europe/Berlin
X-WR-TIMEZONE:Europe/Berlin
BEGIN:VEVENT
UID:f8d45ca9-7d7d-4f20-8e8e-9efe04e1287a
SEQUENCE:0
DTSTAMP:20260422T134437
DTSTART;TZID=Europe/Berlin:20251008T200000
DTEND;TZID=Europe/Berlin:20251008T230000
SUMMARY:TSV Bobingen vs Post SV Augsburg III
LOCATION:Jahnhalle beim Rathaus\, Jahnstraße 13\, 86399 Bobingen\, Deutsc
 hland
DESCRIPTION:Vorrunde
END:VEVENT
END:VCALENDAR