BEGIN:VCALENDAR
VERSION:2.0
PRODID:-//sebbo.net//ical-generator//EN
URL:https://www.mytischtennis.de/community/exportICSCalendar?teamIds=29654
 45
NAME:Termine von Nidderauer TTC V
X-WR-CALNAME:Termine von Nidderauer TTC V
TIMEZONE-ID:Europe/Berlin
X-WR-TIMEZONE:Europe/Berlin
BEGIN:VEVENT
UID:8c2c870b-91d7-4a8c-b375-73301649ff53
SEQUENCE:0
DTSTAMP:20260421T162441
DTSTART;TZID=Europe/Berlin:20250916T201500
DTEND;TZID=Europe/Berlin:20250916T231500
SUMMARY:TTG Topspin Hanau IV vs Nidderauer TTC V
LOCATION:Schulturnhalle Pestalozzischule\, Ramsaystraße 12\, 63450 Hanau\
 , Deutschland
DESCRIPTION:Vorrunde
END:VEVENT
BEGIN:VEVENT
UID:2c74375a-f873-447b-aaea-d84af766f72d
SEQUENCE:0
DTSTAMP:20260421T162441
DTSTART;TZID=Europe/Berlin:20250923T201500
DTEND;TZID=Europe/Berlin:20250923T231500
SUMMARY:Nidderauer TTC V vs TTC Schöneck VI
LOCATION:Kultur- und Sporthalle\, Friedberger Str. 94\, 61130 Nidderau-Hel
 denbergen\, Deutschland
DESCRIPTION:Vorrunde
END:VEVENT
BEGIN:VEVENT
UID:a44cc522-6a6f-4017-9d85-dd8f57aea591
SEQUENCE:0
DTSTAMP:20260421T162441
DTSTART;TZID=Europe/Berlin:20251024T201500
DTEND;TZID=Europe/Berlin:20251024T231500
SUMMARY:TS 1886 Bischofsheim II vs Nidderauer TTC V
LOCATION:Erich-Kästner Schule\, Goethestraße\, kleine Halle\, 63477 Main
 tal-Bischofsheim\, Deutschland
DESCRIPTION:Vorrunde
END:VEVENT
BEGIN:VEVENT
UID:96fda537-3313-49d0-9f5e-0497e603d0bb
SEQUENCE:0
DTSTAMP:20260421T162441
DTSTART;TZID=Europe/Berlin:20251031T201500
DTEND;TZID=Europe/Berlin:20251031T231500
SUMMARY:Nidderauer TTC V vs TS 1886 Bischofsheim II
LOCATION:Kultur- und Sporthalle\, Friedberger Str. 94\, 61130 Nidderau-Hel
 denbergen\, Deutschland
DESCRIPTION:Vorrunde
END:VEVENT
BEGIN:VEVENT
UID:e4273c79-e774-42f5-9e04-108f7c0ba6df
SEQUENCE:0
DTSTAMP:20260421T162441
DTSTART;TZID=Europe/Berlin:20251107T201500
DTEND;TZID=Europe/Berlin:20251107T231500
SUMMARY:Nidderauer TTC V vs TV 1884 Großkrotzenburg
LOCATION:Kultur- und Sporthalle\, Friedberger Str. 94\, 61130 Nidderau-Hel
 denbergen\, Deutschland
DESCRIPTION:Vorrunde
END:VEVENT
BEGIN:VEVENT
UID:2284ad12-7f99-4b25-9804-47b6f2f18886
SEQUENCE:0
DTSTAMP:20260421T162441
DTSTART;TZID=Europe/Berlin:20251123T140000
DTEND;TZID=Europe/Berlin:20251123T170000
SUMMARY:TV 1884 Großkrotzenburg vs Nidderauer TTC V
LOCATION:TV-Halle\, Kahler Straße 3\, 63538 Großkrotzenburg\, Deutschlan
 d
DESCRIPTION:Vorrunde
END:VEVENT
BEGIN:VEVENT
UID:633126c3-4e25-4995-b491-f59df6125225
SEQUENCE:0
DTSTAMP:20260421T162441
DTSTART;TZID=Europe/Berlin:20251205T201500
DTEND;TZID=Europe/Berlin:20251205T231500
SUMMARY:Nidderauer TTC V vs TTG Topspin Hanau IV
LOCATION:Kultur- und Sporthalle\, Friedberger Str. 94\, 61130 Nidderau-Hel
 denbergen\, Deutschland
DESCRIPTION:Vorrunde
END:VEVENT
BEGIN:VEVENT
UID:2da81479-5bed-4220-9a09-2c1c2bc489e6
SEQUENCE:0
DTSTAMP:20260421T162441
DTSTART;TZID=Europe/Berlin:20260113T201500
DTEND;TZID=Europe/Berlin:20260113T231500
SUMMARY:Nidderauer TTC V vs TTC 1962 Lieblos V
LOCATION:Kultur- und Sporthalle\, Friedberger Str. 94\, 61130 Nidderau-Hel
 denbergen\, Deutschland
DESCRIPTION:Rückrunde
END:VEVENT
BEGIN:VEVENT
UID:5b7d3086-ec6a-4821-9582-925cb5fc19bc
SEQUENCE:0
DTSTAMP:20260421T162441
DTSTART;TZID=Europe/Berlin:20260118T100000
DTEND;TZID=Europe/Berlin:20260118T130000
SUMMARY:TTV Brachttal III vs Nidderauer TTC V
LOCATION:Grundschule Brachttal\, Jahnstr.\, 63636 Brachttal\, Deutschland
DESCRIPTION:Rückrunde
END:VEVENT
BEGIN:VEVENT
UID:0fdf5f19-1a71-4e97-9220-6bc3862c5717
SEQUENCE:0
DTSTAMP:20260421T162441
DTSTART;TZID=Europe/Berlin:20260207T170000
DTEND;TZID=Europe/Berlin:20260207T200000
SUMMARY:Nidderauer TTC V vs TTC Lanzingen 1958 III
LOCATION:Albert-Schweitzer-Schule\, Johannesweg 27\, 61130 Nidderau-Helden
 bergen\, Deutschland
DESCRIPTION:Rückrunde
END:VEVENT
BEGIN:VEVENT
UID:527a709e-946f-4861-811a-6ab711a2a48c
SEQUENCE:0
DTSTAMP:20260421T162441
DTSTART;TZID=Europe/Berlin:20260213T200000
DTEND;TZID=Europe/Berlin:20260213T230000
SUMMARY:TTC Lanzingen 1958 III vs Nidderauer TTC V
LOCATION:Dorfgemeinschaftshaus\, Stegwiesenweg 6\, 63599 Biebergemünd-Lan
 zingen\, Deutschland
DESCRIPTION:Rückrunde
END:VEVENT
BEGIN:VEVENT
UID:c80a7011-81a7-41af-96cf-a923911fab3c
SEQUENCE:0
DTSTAMP:20260421T162441
DTSTART;TZID=Europe/Berlin:20260221T140000
DTEND;TZID=Europe/Berlin:20260221T171500
SUMMARY:Nidderauer TTC V vs TTC Neuberg III
LOCATION:Albert-Schweitzer-Schule\, Johannesweg 27\, 61130 Nidderau-Helden
 bergen\, Deutschland
DESCRIPTION:Rückrunde
END:VEVENT
BEGIN:VEVENT
UID:02bb7660-50aa-4b23-85d3-9a8a94ee3676
SEQUENCE:0
DTSTAMP:20260421T162441
DTSTART;TZID=Europe/Berlin:20260306T203000
DTEND;TZID=Europe/Berlin:20260306T233000
SUMMARY:TTC Neuberg III vs Nidderauer TTC V
LOCATION:Turnhalle der Erich-Simdorn-Schule\, Rüdigheimer Straße (gegen
 über REWE)\, 63543 Neuberg\, Deutschland
DESCRIPTION:Rückrunde
END:VEVENT
BEGIN:VEVENT
UID:c982e8b4-9a86-40fb-a6da-f77eeda21838
SEQUENCE:0
DTSTAMP:20260421T162441
DTSTART;TZID=Europe/Berlin:20260320T201500
DTEND;TZID=Europe/Berlin:20260320T231500
SUMMARY:TTV Gründau 1953 VI vs Nidderauer TTC V
LOCATION:Helmut Wolf Halle\, Schieferbergstr. 25\, 63584 Gründau\, Deutsc
 hland
DESCRIPTION:Rückrunde
END:VEVENT
BEGIN:VEVENT
UID:86084616-34c0-4c9a-8d89-ec09d8da7187
SEQUENCE:0
DTSTAMP:20260421T162441
DTSTART;TZID=Europe/Berlin:20260327T201500
DTEND;TZID=Europe/Berlin:20260327T231500
SUMMARY:Nidderauer TTC V vs TTV Gründau 1953 VI
LOCATION:Kultur- und Sporthalle\, Friedberger Str. 94\, 61130 Nidderau-Hel
 denbergen\, Deutschland
DESCRIPTION:Rückrunde
END:VEVENT
BEGIN:VEVENT
UID:6f7f5cca-b8dc-436d-b65f-f890917998dc
SEQUENCE:0
DTSTAMP:20260421T162441
DTSTART;TZID=Europe/Berlin:20260417T201500
DTEND;TZID=Europe/Berlin:20260417T231500
SUMMARY:Nidderauer TTC V vs TTV Brachttal III
LOCATION:Kultur- und Sporthalle\, Friedberger Str. 94\, 61130 Nidderau-Hel
 denbergen\, Deutschland
DESCRIPTION:Rückrunde
END:VEVENT
BEGIN:VEVENT
UID:2a3d405c-2587-4d1f-b7a0-3b18a5d5fbfe
SEQUENCE:0
DTSTAMP:20260421T162441
DTSTART;TZID=Europe/Berlin:20260421T203000
DTEND;TZID=Europe/Berlin:20260421T233000
SUMMARY:TTC 1962 Lieblos V vs Nidderauer TTC V
LOCATION:Turnhalle an der Kinzigschule\, Alte Hofstr.\, 63584 Gründau-Lie
 blos\, Deutschland
DESCRIPTION:Rückrunde
END:VEVENT
END:VCALENDAR