BEGIN:VCALENDAR
VERSION:2.0
PRODID:-//sebbo.net//ical-generator//EN
URL:https://www.mytischtennis.de/community/exportICSCalendar?teamIds=29599
 22
NAME:Termine von FC Kollnau IV
X-WR-CALNAME:Termine von FC Kollnau IV
TIMEZONE-ID:Europe/Berlin
X-WR-TIMEZONE:Europe/Berlin
BEGIN:VEVENT
UID:d85ad3cf-fb87-4226-935b-9b8a09d372ad
SEQUENCE:0
DTSTAMP:20260420T171714
DTSTART;TZID=Europe/Berlin:20250917T203000
DTEND;TZID=Europe/Berlin:20250917T233000
SUMMARY:FC Kollnau IV vs TV Freiburg St.Georgen III
LOCATION:Georg-Schindler-Halle\, Aubachstr. 6\, 79183 Waldkirch\, Deutschl
 and
DESCRIPTION:Vorrunde
END:VEVENT
BEGIN:VEVENT
UID:af79b9cd-86a1-4a9b-a1fd-e57364088bca
SEQUENCE:0
DTSTAMP:20260420T171714
DTSTART;TZID=Europe/Berlin:20250927T183000
DTEND;TZID=Europe/Berlin:20250927T213000
SUMMARY:FC Kollnau IV vs AV GER.Freib.-St.Georgen III
LOCATION:Georg-Schindler-Halle\, Aubachstr. 6\, 79183 Waldkirch\, Deutschl
 and
DESCRIPTION:Vorrunde
END:VEVENT
BEGIN:VEVENT
UID:1a17a39f-db47-4c3f-9b4a-ab2b583dc761
SEQUENCE:0
DTSTAMP:20260420T171714
DTSTART;TZID=Europe/Berlin:20251020T200000
DTEND;TZID=Europe/Berlin:20251020T230000
SUMMARY:FC Kollnau IV vs TTC Glottertal
LOCATION:Georg-Schindler-Halle\, Aubachstr. 6\, 79183 Waldkirch\, Deutschl
 and
DESCRIPTION:Vorrunde
END:VEVENT
BEGIN:VEVENT
UID:3cc5cc57-6d9c-4c49-81da-cda283988f7d
SEQUENCE:0
DTSTAMP:20260420T171714
DTSTART;TZID=Europe/Berlin:20251103T200000
DTEND;TZID=Europe/Berlin:20251103T230000
SUMMARY:FC Kollnau IV vs TTC Elzach III
LOCATION:Georg-Schindler-Halle\, Aubachstr. 6\, 79183 Waldkirch\, Deutschl
 and
DESCRIPTION:Vorrunde
END:VEVENT
BEGIN:VEVENT
UID:9d4ab5e9-83da-4cb9-ba5f-88258ab076e0
SEQUENCE:0
DTSTAMP:20260420T171714
DTSTART;TZID=Europe/Berlin:20251108T183000
DTEND;TZID=Europe/Berlin:20251108T213000
SUMMARY:FC Kollnau IV vs SSV Freiburg III
LOCATION:Georg-Schindler-Halle\, Aubachstr. 6\, 79183 Waldkirch\, Deutschl
 and
DESCRIPTION:Vorrunde
END:VEVENT
BEGIN:VEVENT
UID:66da568d-5e64-4b04-8f10-afc937f00729
SEQUENCE:0
DTSTAMP:20260420T171714
DTSTART;TZID=Europe/Berlin:20251114T201500
DTEND;TZID=Europe/Berlin:20251114T231500
SUMMARY:TV Denzlingen IV vs FC Kollnau IV
LOCATION:Jahnhalle\, Stuttgarter Str. 15\, 79211 Denzlingen\, Deutschland
DESCRIPTION:Vorrunde
END:VEVENT
BEGIN:VEVENT
UID:56ed0fd4-d506-4276-a5db-eb389da596e6
SEQUENCE:0
DTSTAMP:20260420T171714
DTSTART;TZID=Europe/Berlin:20251118T193000
DTEND;TZID=Europe/Berlin:20251118T223000
SUMMARY:SV Waldkirch III vs FC Kollnau IV
LOCATION:Kastelbergschule Gymnastikraum\, Mozartstr. 2 B\, 79183  Waldkirc
 h\, Deutschland
DESCRIPTION:Vorrunde
END:VEVENT
BEGIN:VEVENT
UID:e41da91d-bd18-43bf-bd06-8b2c2dc9de78
SEQUENCE:0
DTSTAMP:20260420T171714
DTSTART;TZID=Europe/Berlin:20251201T200000
DTEND;TZID=Europe/Berlin:20251201T230000
SUMMARY:FC Kollnau IV vs DJK Heuweiler
LOCATION:Georg-Schindler-Halle\, Aubachstr. 6\, 79183 Waldkirch\, Deutschl
 and
DESCRIPTION:Vorrunde
END:VEVENT
BEGIN:VEVENT
UID:9353b9dc-37d6-41d1-aeb6-a4572d464b15
SEQUENCE:0
DTSTAMP:20260420T171714
DTSTART;TZID=Europe/Berlin:20251205T200000
DTEND;TZID=Europe/Berlin:20251205T230000
SUMMARY:TTV Vörstetten II vs FC Kollnau IV
LOCATION:Heinz-Ritter-Halle\, Marchstraße 46\, 79279 Vörstetten\, Deutsc
 hland
DESCRIPTION:Vorrunde
END:VEVENT
BEGIN:VEVENT
UID:95b42383-b5f0-4cb4-a39f-377beb12b590
SEQUENCE:0
DTSTAMP:20260420T171714
DTSTART;TZID=Europe/Berlin:20260124T183000
DTEND;TZID=Europe/Berlin:20260124T213000
SUMMARY:FC Kollnau IV vs TTV Vörstetten II
LOCATION:Georg-Schindler-Halle\, Aubachstr. 6\, 79183 Waldkirch\, Deutschl
 and
DESCRIPTION:Rückrunde
END:VEVENT
BEGIN:VEVENT
UID:09a5d80f-49bf-4e76-a0d0-f8cf2a4dcbe3
SEQUENCE:0
DTSTAMP:20260420T171714
DTSTART;TZID=Europe/Berlin:20260127T201500
DTEND;TZID=Europe/Berlin:20260127T231500
SUMMARY:TTC Glottertal vs FC Kollnau IV
LOCATION:Eichberghalle\, Rathausweg 12\, 79286 Glottertal\, Deutschland
DESCRIPTION:Rückrunde
END:VEVENT
BEGIN:VEVENT
UID:d45e5ca0-0617-4e24-9ccb-49d8adb0097d
SEQUENCE:0
DTSTAMP:20260420T171714
DTSTART;TZID=Europe/Berlin:20260221T194500
DTEND;TZID=Europe/Berlin:20260221T224500
SUMMARY:SSV Freiburg III vs FC Kollnau IV
LOCATION:Tullaschule\, Offenburger Str. 12\, 79108 Freiburg\, Deutschland
DESCRIPTION:Rückrunde
END:VEVENT
BEGIN:VEVENT
UID:f3084bde-7c94-471f-9738-b2e6de0d28f4
SEQUENCE:0
DTSTAMP:20260420T171714
DTSTART;TZID=Europe/Berlin:20260227T200000
DTEND;TZID=Europe/Berlin:20260227T230000
SUMMARY:TTC Elzach III vs FC Kollnau IV
LOCATION:Turn- und Festhalle Elzach\, Am Schießgraben 7 (Seiteneingang ge
 genüber des Kirchturms)\, 79215 Elzach\, Deutschland
DESCRIPTION:Rückrunde
END:VEVENT
BEGIN:VEVENT
UID:d066865d-23e4-4839-99d6-a3bba5447981
SEQUENCE:0
DTSTAMP:20260420T171714
DTSTART;TZID=Europe/Berlin:20260309T200000
DTEND;TZID=Europe/Berlin:20260309T230000
SUMMARY:FC Kollnau IV vs TV Denzlingen IV
LOCATION:Georg-Schindler-Halle\, Aubachstr. 6\, 79183 Waldkirch\, Deutschl
 and
DESCRIPTION:Rückrunde
END:VEVENT
BEGIN:VEVENT
UID:e861a3e4-f0e1-43ae-afbf-a130d3896afc
SEQUENCE:0
DTSTAMP:20260420T171714
DTSTART;TZID=Europe/Berlin:20260321T183000
DTEND;TZID=Europe/Berlin:20260321T213000
SUMMARY:FC Kollnau IV vs SV Waldkirch III
LOCATION:Georg-Schindler-Halle\, Aubachstr. 6\, 79183 Waldkirch\, Deutschl
 and
DESCRIPTION:Rückrunde
END:VEVENT
BEGIN:VEVENT
UID:fdd9526e-fb74-49c1-b6f6-24eb8bf3be0d
SEQUENCE:0
DTSTAMP:20260420T171714
DTSTART;TZID=Europe/Berlin:20260328T173000
DTEND;TZID=Europe/Berlin:20260328T203000
SUMMARY:AV GER.Freib.-St.Georgen III vs FC Kollnau IV
LOCATION:Theodor-Heuss-Gymnasium \, Andreas-Hofer-Str.\, Anfahrt zum Parkp
 latz über Schneeburgstr.\, 79111 Freiburg\, Deutschland
DESCRIPTION:Rückrunde
END:VEVENT
BEGIN:VEVENT
UID:81f56dad-4bc1-4e30-958e-a0390700da54
SEQUENCE:0
DTSTAMP:20260420T171714
DTSTART;TZID=Europe/Berlin:20260417T194500
DTEND;TZID=Europe/Berlin:20260417T224500
SUMMARY:DJK Heuweiler vs FC Kollnau IV
LOCATION:Sporthalle\, Kandelstr. 47\, 79194 Gundelfingen\, Deutschland
DESCRIPTION:Rückrunde
END:VEVENT
BEGIN:VEVENT
UID:ff6bb134-1de2-4c8e-86bc-6d39a3d169d2
SEQUENCE:0
DTSTAMP:20260420T171714
DTSTART;TZID=Europe/Berlin:20260420T203000
DTEND;TZID=Europe/Berlin:20260420T233000
SUMMARY:TV Freiburg St.Georgen III vs FC Kollnau IV
LOCATION:Halle am Vogelbach\, Am Vogelbach 14a\, 79110 Freiburg\, Deutschl
 and
DESCRIPTION:Rückrunde
END:VEVENT
END:VCALENDAR