BEGIN:VCALENDAR
VERSION:2.0
PRODID:-//sebbo.net//ical-generator//EN
URL:https://www.mytischtennis.de/community/exportICSCalendar?teamids=29562
 57
NAME:Termine von Mahlower SV
X-WR-CALNAME:Termine von Mahlower SV
TIMEZONE-ID:Europe/Berlin
X-WR-TIMEZONE:Europe/Berlin
BEGIN:VEVENT
UID:b9c4bf7a-8efc-43a9-880b-124f7515a1a7
SEQUENCE:0
DTSTAMP:20260423T081323
DTSTART;TZID=Europe/Berlin:20250927T100000
DTEND;TZID=Europe/Berlin:20250927T130000
SUMMARY:Mahlower SV vs TSV Stahnsdorf II
LOCATION:Turnhalle Weidenhof\, Weidenhof Nr. 4\, 15831 Mahlow\, Deutschlan
 d
DESCRIPTION:Vorrunde
END:VEVENT
BEGIN:VEVENT
UID:e1ece979-bd36-4aed-9b9a-2fa5f44f61d0
SEQUENCE:0
DTSTAMP:20260423T081323
DTSTART;TZID=Europe/Berlin:20251004T100000
DTEND;TZID=Europe/Berlin:20251004T130000
SUMMARY:TTV Einheit Potsdam vs Mahlower SV
LOCATION:Sporthalle der Voltaireschule Potsdam\, Lindenstraße 32/33\, 144
 67 Potsdam\, Deutschland
DESCRIPTION:Vorrunde
END:VEVENT
BEGIN:VEVENT
UID:0944c8cf-4cfa-4e14-b908-226d0e4e2a87
SEQUENCE:0
DTSTAMP:20260423T081323
DTSTART;TZID=Europe/Berlin:20251115T100000
DTEND;TZID=Europe/Berlin:20251115T130000
SUMMARY:Ludwigsfelder TTC vs Mahlower SV
LOCATION:Sporthalle Gebrüder-Grimm-Grundschule\, E.-Thälmann-Str. 35\, 1
 4974 Ludwigsfelde\, Deutschland
DESCRIPTION:Vorrunde
END:VEVENT
BEGIN:VEVENT
UID:74b0be95-eacd-4d3f-a35f-9920af853220
SEQUENCE:0
DTSTAMP:20260423T081323
DTSTART;TZID=Europe/Berlin:20251123T133000
DTEND;TZID=Europe/Berlin:20251123T163000
SUMMARY:WSG Königs Wusterhausen vs Mahlower SV
LOCATION:Sporthalle Grundschule Wilhelm Busch\, Heinrich-von-Kleist-Str. 1
 6A\, 15711 Königs Wusterhausen\, Deutschland
DESCRIPTION:Vorrunde
END:VEVENT
BEGIN:VEVENT
UID:4b575613-ad9e-48fd-98f2-14d3a3d758d7
SEQUENCE:0
DTSTAMP:20260423T081323
DTSTART;TZID=Europe/Berlin:20251129T100000
DTEND;TZID=Europe/Berlin:20251129T130000
SUMMARY:TSV Stahnsdorf vs Mahlower SV
LOCATION:Turnhalle Lindenhof Grundschule\, Mühlenstr.15 (neue Halle)\, 14
 532 Stahnsdorf\, Deutschland
DESCRIPTION:Vorrunde
END:VEVENT
BEGIN:VEVENT
UID:a53a6793-7372-4a1a-8204-47161bd4fcc5
SEQUENCE:0
DTSTAMP:20260423T081323
DTSTART;TZID=Europe/Berlin:20251206T100000
DTEND;TZID=Europe/Berlin:20251206T130000
SUMMARY:Mahlower SV vs SG Einheit Luckenwalde II
LOCATION:Turnhalle Weidenhof\, Weidenhof Nr. 4\, 15831 Mahlow\, Deutschlan
 d
DESCRIPTION:Vorrunde
END:VEVENT
BEGIN:VEVENT
UID:65ee0e7d-f9a0-4a45-8bce-3d77699cdcea
SEQUENCE:0
DTSTAMP:20260423T081323
DTSTART;TZID=Europe/Berlin:20260124T140000
DTEND;TZID=Europe/Berlin:20260124T170000
SUMMARY:TSV Stahnsdorf II vs Mahlower SV
LOCATION:Turnhalle Lindenhof Grundschule\, Mühlenstr.15 (neue Halle)\, 14
 532 Stahnsdorf\, Deutschland
DESCRIPTION:Rückrunde
END:VEVENT
BEGIN:VEVENT
UID:772c0cef-37db-4482-aeaf-1fb1b0eb5055
SEQUENCE:0
DTSTAMP:20260423T081323
DTSTART;TZID=Europe/Berlin:20260131T100000
DTEND;TZID=Europe/Berlin:20260131T130000
SUMMARY:Mahlower SV vs WSG Königs Wusterhausen
LOCATION:Turnhalle Weidenhof\, Weidenhof Nr. 4\, 15831 Mahlow\, Deutschlan
 d
DESCRIPTION:Rückrunde
END:VEVENT
BEGIN:VEVENT
UID:fb3ab50c-f3c5-4b1d-99f8-eeada8952dd3
SEQUENCE:0
DTSTAMP:20260423T081323
DTSTART;TZID=Europe/Berlin:20260214T100000
DTEND;TZID=Europe/Berlin:20260214T130000
SUMMARY:Mahlower SV vs TTV Einheit Potsdam
LOCATION:Turnhalle Weidenhof\, Weidenhof Nr. 4\, 15831 Mahlow\, Deutschlan
 d
DESCRIPTION:Rückrunde
END:VEVENT
BEGIN:VEVENT
UID:5d286b16-7f00-4d1c-8833-63125a868a88
SEQUENCE:0
DTSTAMP:20260423T081323
DTSTART;TZID=Europe/Berlin:20260221T140000
DTEND;TZID=Europe/Berlin:20260221T170000
SUMMARY:SG Einheit Luckenwalde II vs Mahlower SV
LOCATION:Turnhalle Luckenwalde\, Kleiner Haag 7\, 14943 Luckenwalde\, Deut
 schland
DESCRIPTION:Rückrunde
END:VEVENT
BEGIN:VEVENT
UID:83021cf6-dbf1-404c-9152-8b0c91bfd5c0
SEQUENCE:0
DTSTAMP:20260423T081323
DTSTART;TZID=Europe/Berlin:20260314T100000
DTEND;TZID=Europe/Berlin:20260314T130000
SUMMARY:Mahlower SV vs Ludwigsfelder TTC
LOCATION:Turnhalle Weidenhof\, Weidenhof Nr. 4\, 15831 Mahlow\, Deutschlan
 d
DESCRIPTION:Rückrunde
END:VEVENT
BEGIN:VEVENT
UID:1546a925-8ea9-47cc-9e7e-50e37b7961d3
SEQUENCE:0
DTSTAMP:20260423T081323
DTSTART;TZID=Europe/Berlin:20260411T102000
DTEND;TZID=Europe/Berlin:20260411T132000
SUMMARY:Mahlower SV vs TSV Stahnsdorf
LOCATION:Turnhalle Weidenhof\, Weidenhof Nr. 4\, 15831 Mahlow\, Deutschlan
 d
DESCRIPTION:Rückrunde
END:VEVENT
END:VCALENDAR