BEGIN:VCALENDAR
VERSION:2.0
PRODID:-//sebbo.net//ical-generator//EN
URL:https://www.mytischtennis.de/community/exportICSCalendar?teamids=29562
 36
NAME:Termine von Mahlower SV V
X-WR-CALNAME:Termine von Mahlower SV V
TIMEZONE-ID:Europe/Berlin
X-WR-TIMEZONE:Europe/Berlin
BEGIN:VEVENT
UID:33994bd9-23c7-426d-bd86-ec8e98a7f930
SEQUENCE:0
DTSTAMP:20260423T062729
DTSTART;TZID=Europe/Berlin:20250912T193000
DTEND;TZID=Europe/Berlin:20250912T223000
SUMMARY:Mahlower SV VI vs Mahlower SV V
LOCATION:Turnhalle Weidenhof\, Weidenhof Nr. 4\, 15831 Mahlow\, Deutschlan
 d
DESCRIPTION:Vorrunde
END:VEVENT
BEGIN:VEVENT
UID:d786e11c-0572-4177-ae4b-51ed2e8ec2cc
SEQUENCE:0
DTSTAMP:20260423T062729
DTSTART;TZID=Europe/Berlin:20251010T190000
DTEND;TZID=Europe/Berlin:20251010T220000
SUMMARY:1. TTC Zossen II vs Mahlower SV V
LOCATION:Sporthalle über der Feuerwehr\, An der Wache\, 15806 Zossen\, De
 utschland
DESCRIPTION:Vorrunde
END:VEVENT
BEGIN:VEVENT
UID:a77ef340-7950-40c4-8e34-3a335c25b57b
SEQUENCE:0
DTSTAMP:20260423T062729
DTSTART;TZID=Europe/Berlin:20251019T100000
DTEND;TZID=Europe/Berlin:20251019T130000
SUMMARY:MTV Wünsdorf III vs Mahlower SV V
LOCATION:Oberschule Wünsdorf (Comenius)\, Chausseestrasse 6\, 15806 Zosse
 n (OT Wünsdorf)\, Deutschland
DESCRIPTION:Vorrunde
END:VEVENT
BEGIN:VEVENT
UID:887f52fe-acef-4f4b-9e14-63adb70e9c30
SEQUENCE:0
DTSTAMP:20260423T062729
DTSTART;TZID=Europe/Berlin:20251021T193000
DTEND;TZID=Europe/Berlin:20251021T223000
SUMMARY:Mahlower SV V vs SV Fichte Baruth
LOCATION:Turnhalle Weidenhof\, Weidenhof Nr. 4\, 15831 Mahlow\, Deutschlan
 d
DESCRIPTION:Vorrunde
END:VEVENT
BEGIN:VEVENT
UID:4050e604-557a-4f74-97cf-f81cd8c02a97
SEQUENCE:0
DTSTAMP:20260423T062729
DTSTART;TZID=Europe/Berlin:20251024T193000
DTEND;TZID=Europe/Berlin:20251024T223000
SUMMARY:Mahlower SV V vs SV Lok Rangsdorf
LOCATION:Turnhalle Weidenhof\, Weidenhof Nr. 4\, 15831 Mahlow\, Deutschlan
 d
DESCRIPTION:Vorrunde
END:VEVENT
BEGIN:VEVENT
UID:278fedb7-c513-4be2-84fa-bd92332ec342
SEQUENCE:0
DTSTAMP:20260423T062729
DTSTART;TZID=Europe/Berlin:20251107T193000
DTEND;TZID=Europe/Berlin:20251107T223000
SUMMARY:Mahlower SV V vs SV Lok Rangsdorf II
LOCATION:Turnhalle Weidenhof\, Weidenhof Nr. 4\, 15831 Mahlow\, Deutschlan
 d
DESCRIPTION:Vorrunde
END:VEVENT
BEGIN:VEVENT
UID:492cd24f-68e6-4c3b-85a2-4e0525307ada
SEQUENCE:0
DTSTAMP:20260423T062729
DTSTART;TZID=Europe/Berlin:20251115T143000
DTEND;TZID=Europe/Berlin:20251115T173000
SUMMARY:Ludwigsfelder TTC VI vs Mahlower SV V
LOCATION:Sporthalle Gebrüder-Grimm-Grundschule\, E.-Thälmann-Str. 35\, 1
 4974 Ludwigsfelde\, Deutschland
DESCRIPTION:Vorrunde
END:VEVENT
BEGIN:VEVENT
UID:df6ca676-5016-4ecf-afc7-665a0f4d75bd
SEQUENCE:0
DTSTAMP:20260423T062729
DTSTART;TZID=Europe/Berlin:20251121T193000
DTEND;TZID=Europe/Berlin:20251121T223000
SUMMARY:Mahlower SV V vs SG Woltersdorf
LOCATION:Turnhalle Weidenhof\, Weidenhof Nr. 4\, 15831 Mahlow\, Deutschlan
 d
DESCRIPTION:Vorrunde
END:VEVENT
BEGIN:VEVENT
UID:e7fe079b-9f39-4daa-b806-99678911ab28
SEQUENCE:0
DTSTAMP:20260423T062729
DTSTART;TZID=Europe/Berlin:20251128T193000
DTEND;TZID=Europe/Berlin:20251128T223000
SUMMARY:KSV Sperenberg III vs Mahlower SV V
LOCATION:TH der Anne Frank Grundschule in Sperenberg\, Puschkinstr. 7\, 15
 838 Am Mellensee\, Deutschland
DESCRIPTION:Vorrunde
END:VEVENT
BEGIN:VEVENT
UID:a2bc2e75-bfe1-4bfc-b7b5-5797229e12d8
SEQUENCE:0
DTSTAMP:20260423T062729
DTSTART;TZID=Europe/Berlin:20251205T193000
DTEND;TZID=Europe/Berlin:20251205T223000
SUMMARY:Mahlower SV V vs SV Grün-Weiß Großbeeren III
LOCATION:Turnhalle Weidenhof\, Weidenhof Nr. 4\, 15831 Mahlow\, Deutschlan
 d
DESCRIPTION:Vorrunde
END:VEVENT
BEGIN:VEVENT
UID:daf0d324-24ee-4751-86f6-590c3ee51e75
SEQUENCE:0
DTSTAMP:20260423T062729
DTSTART;TZID=Europe/Berlin:20260123T193000
DTEND;TZID=Europe/Berlin:20260123T223000
SUMMARY:Mahlower SV V vs MTV Wünsdorf III
LOCATION:Turnhalle Weidenhof\, Weidenhof Nr. 4\, 15831 Mahlow\, Deutschlan
 d
DESCRIPTION:Rückrunde
END:VEVENT
BEGIN:VEVENT
UID:f5abc6b3-8c05-422e-a074-8ca569ca5e2d
SEQUENCE:0
DTSTAMP:20260423T062729
DTSTART;TZID=Europe/Berlin:20260213T200000
DTEND;TZID=Europe/Berlin:20260213T230000
SUMMARY:SV Lok Rangsdorf vs Mahlower SV V
LOCATION:Mehrzweckhalle Groß Machnow\, Dorfstr. 9\, 15834 Rangsdorf OT Gr
 oß Machnow\, Deutschland
DESCRIPTION:Rückrunde
END:VEVENT
BEGIN:VEVENT
UID:5428deec-fefd-4de8-be1e-97ff7c1073a1
SEQUENCE:0
DTSTAMP:20260423T062729
DTSTART;TZID=Europe/Berlin:20260216T193000
DTEND;TZID=Europe/Berlin:20260216T223000
SUMMARY:SV Lok Rangsdorf II vs Mahlower SV V
LOCATION:Mehrzweckhalle Groß Machnow\, Dorfstr. 9\, 15834 Rangsdorf OT Gr
 oß Machnow\, Deutschland
DESCRIPTION:Rückrunde
END:VEVENT
BEGIN:VEVENT
UID:64ee5af9-8c00-465d-9a0f-8620364d19c9
SEQUENCE:0
DTSTAMP:20260423T062729
DTSTART;TZID=Europe/Berlin:20260220T193000
DTEND;TZID=Europe/Berlin:20260220T223000
SUMMARY:Mahlower SV V vs 1. TTC Zossen II
LOCATION:Turnhalle Weidenhof\, Weidenhof Nr. 4\, 15831 Mahlow\, Deutschlan
 d
DESCRIPTION:Rückrunde
END:VEVENT
BEGIN:VEVENT
UID:cbdafb73-b8e8-4629-8092-a9aee8a66b98
SEQUENCE:0
DTSTAMP:20260423T062729
DTSTART;TZID=Europe/Berlin:20260304T191500
DTEND;TZID=Europe/Berlin:20260304T221500
SUMMARY:SV Fichte Baruth vs Mahlower SV V
LOCATION:Turnhalle Oberschule Baruth\, Wiesenweg\, 15837 Baruth/Mark\, Deu
 tschland
DESCRIPTION:Rückrunde
END:VEVENT
BEGIN:VEVENT
UID:a3793c7a-ecbb-44e7-8247-0baafc08ec00
SEQUENCE:0
DTSTAMP:20260423T062729
DTSTART;TZID=Europe/Berlin:20260320T193000
DTEND;TZID=Europe/Berlin:20260320T223000
SUMMARY:Mahlower SV V vs Ludwigsfelder TTC VI
LOCATION:Turnhalle Weidenhof\, Weidenhof Nr. 4\, 15831 Mahlow\, Deutschlan
 d
DESCRIPTION:Rückrunde
END:VEVENT
BEGIN:VEVENT
UID:40271729-f578-4101-ac84-0f2102fdea7e
SEQUENCE:0
DTSTAMP:20260423T062729
DTSTART;TZID=Europe/Berlin:20260411T150000
DTEND;TZID=Europe/Berlin:20260411T180000
SUMMARY:SG Woltersdorf vs Mahlower SV V
LOCATION:Turnhalle Woltersdorf\, Schulstr.\, 14947 Nuthe-Urstromtal\, Deut
 schland
DESCRIPTION:Rückrunde
END:VEVENT
BEGIN:VEVENT
UID:3c4920d6-a572-4abc-9513-603fa5b958c3
SEQUENCE:0
DTSTAMP:20260423T062729
DTSTART;TZID=Europe/Berlin:20260417T193000
DTEND;TZID=Europe/Berlin:20260417T223000
SUMMARY:Mahlower SV V vs KSV Sperenberg III
LOCATION:Turnhalle Weidenhof\, Weidenhof Nr. 4\, 15831 Mahlow\, Deutschlan
 d
DESCRIPTION:Rückrunde
END:VEVENT
BEGIN:VEVENT
UID:4af31ad6-6cae-474e-b796-c9eb91745539
SEQUENCE:0
DTSTAMP:20260423T062729
DTSTART;TZID=Europe/Berlin:20260424T190000
DTEND;TZID=Europe/Berlin:20260424T220000
SUMMARY:SV Grün-Weiß Großbeeren III vs Mahlower SV V
LOCATION:Mehrzweckhalle\, Teltower Str. 1\, 14979 Großbeeren\, Deutschlan
 d
DESCRIPTION:Rückrunde
END:VEVENT
END:VCALENDAR