BEGIN:VCALENDAR
VERSION:2.0
PRODID:-//sebbo.net//ical-generator//EN
URL:https://www.mytischtennis.de/community/exportICSCalendar?teamids=29562
 28
NAME:Termine von Mahlower SV III
X-WR-CALNAME:Termine von Mahlower SV III
TIMEZONE-ID:Europe/Berlin
X-WR-TIMEZONE:Europe/Berlin
BEGIN:VEVENT
UID:74730cf1-2e4b-4c23-a19e-7cba8adfdfd9
SEQUENCE:0
DTSTAMP:20260423T062723
DTSTART;TZID=Europe/Berlin:20250905T193000
DTEND;TZID=Europe/Berlin:20250905T223000
SUMMARY:Mahlower SV III vs Mahlower SV IV
LOCATION:Turnhalle Weidenhof\, Weidenhof Nr. 4\, 15831 Mahlow\, Deutschlan
 d
DESCRIPTION:Vorrunde
END:VEVENT
BEGIN:VEVENT
UID:1428e332-6bd8-48c9-a4a3-22d07252999c
SEQUENCE:0
DTSTAMP:20260423T062723
DTSTART;TZID=Europe/Berlin:20250919T193000
DTEND;TZID=Europe/Berlin:20250919T223000
SUMMARY:Mahlower SV III vs SV Grün-Weiß Großbeeren II
LOCATION:Turnhalle Weidenhof\, Weidenhof Nr. 4\, 15831 Mahlow\, Deutschlan
 d
DESCRIPTION:Vorrunde
END:VEVENT
BEGIN:VEVENT
UID:5dcee806-2f08-4c18-a9dc-f4f62639d8b2
SEQUENCE:0
DTSTAMP:20260423T062723
DTSTART;TZID=Europe/Berlin:20250927T141500
DTEND;TZID=Europe/Berlin:20250927T171500
SUMMARY:Petkuser SV II vs Mahlower SV III
LOCATION:Sportzentrum Petkus\, Merzdorfer Straße 33\, 15837 Baruth/Markt 
 OT Petkus\, Deutschland
DESCRIPTION:Vorrunde
END:VEVENT
BEGIN:VEVENT
UID:d195c2d1-6603-421a-b033-0c2963e552fd
SEQUENCE:0
DTSTAMP:20260423T062723
DTSTART;TZID=Europe/Berlin:20251017T193000
DTEND;TZID=Europe/Berlin:20251017T223000
SUMMARY:Mahlower SV III vs Ludwigsfelder TTC V
LOCATION:Turnhalle Weidenhof\, Weidenhof Nr. 4\, 15831 Mahlow\, Deutschlan
 d
DESCRIPTION:Vorrunde
END:VEVENT
BEGIN:VEVENT
UID:255631a0-eef2-44db-bd07-39b7f5c4f419
SEQUENCE:0
DTSTAMP:20260423T062723
DTSTART;TZID=Europe/Berlin:20251107T193000
DTEND;TZID=Europe/Berlin:20251107T230000
SUMMARY:Mahlower SV III vs VSG Bestensee III
LOCATION:Turnhalle Weidenhof\, Weidenhof Nr. 4\, 15831 Mahlow\, Deutschlan
 d
DESCRIPTION:Vorrunde
END:VEVENT
BEGIN:VEVENT
UID:e94c994e-37a2-4d98-ae70-6e663f9f8078
SEQUENCE:0
DTSTAMP:20260423T062723
DTSTART;TZID=Europe/Berlin:20251114T193000
DTEND;TZID=Europe/Berlin:20251114T230000
SUMMARY:Mahlower SV III vs 1. TTC Zossen
LOCATION:Turnhalle Weidenhof\, Weidenhof Nr. 4\, 15831 Mahlow\, Deutschlan
 d
DESCRIPTION:Vorrunde
END:VEVENT
BEGIN:VEVENT
UID:57f04d7f-4417-4383-b7c6-06615430f0e0
SEQUENCE:0
DTSTAMP:20260423T062723
DTSTART;TZID=Europe/Berlin:20251121T190000
DTEND;TZID=Europe/Berlin:20251121T221500
SUMMARY:SG Einheit Luckenwalde IV vs Mahlower SV III
LOCATION:Turnhalle Luckenwalde\, Kleiner Haag 7\, 14943 Luckenwalde\, Deut
 schland
DESCRIPTION:Vorrunde
END:VEVENT
BEGIN:VEVENT
UID:077e2b4d-9cef-4fae-a26e-e2e009b92d49
SEQUENCE:0
DTSTAMP:20260423T062723
DTSTART;TZID=Europe/Berlin:20251205T193000
DTEND;TZID=Europe/Berlin:20251205T223000
SUMMARY:Mahlower SV III vs Heideseer SV
LOCATION:Turnhalle Weidenhof\, Weidenhof Nr. 4\, 15831 Mahlow\, Deutschlan
 d
DESCRIPTION:Vorrunde
END:VEVENT
BEGIN:VEVENT
UID:34d8092b-adb3-4e6a-9bd4-4b761ead5dd4
SEQUENCE:0
DTSTAMP:20260423T062723
DTSTART;TZID=Europe/Berlin:20251213T110000
DTEND;TZID=Europe/Berlin:20251213T140000
SUMMARY:Mahlower SV III vs SV Blau-Weiß Dahlewitz IV
LOCATION:Turnhalle Weidenhof\, Weidenhof Nr. 4\, 15831 Mahlow\, Deutschlan
 d
DESCRIPTION:Vorrunde
END:VEVENT
BEGIN:VEVENT
UID:2d7f0d7f-54fe-4f99-a41e-7fff61f29f41
SEQUENCE:0
DTSTAMP:20260423T062723
DTSTART;TZID=Europe/Berlin:20260116T193000
DTEND;TZID=Europe/Berlin:20260116T223000
SUMMARY:SV Grün-Weiß Großbeeren II vs Mahlower SV III
LOCATION:Mehrzweckhalle\, Teltower Str. 1\, 14979 Großbeeren\, Deutschlan
 d
DESCRIPTION:Rückrunde
END:VEVENT
BEGIN:VEVENT
UID:a91028f6-ee99-4158-8eea-5b003b3391e7
SEQUENCE:0
DTSTAMP:20260423T062723
DTSTART;TZID=Europe/Berlin:20260123T193000
DTEND;TZID=Europe/Berlin:20260123T223000
SUMMARY:Mahlower SV III vs Petkuser SV II
LOCATION:Turnhalle Weidenhof\, Weidenhof Nr. 4\, 15831 Mahlow\, Deutschlan
 d
DESCRIPTION:Rückrunde
END:VEVENT
BEGIN:VEVENT
UID:62bf1b32-323a-49b1-bbf7-4211d7838b7f
SEQUENCE:0
DTSTAMP:20260423T062723
DTSTART;TZID=Europe/Berlin:20260206T193000
DTEND;TZID=Europe/Berlin:20260206T223000
SUMMARY:Mahlower SV IV vs Mahlower SV III
LOCATION:Turnhalle Weidenhof\, Weidenhof Nr. 4\, 15831 Mahlow\, Deutschlan
 d
DESCRIPTION:Rückrunde
END:VEVENT
BEGIN:VEVENT
UID:d14b7199-1002-4cdd-85d9-32be0016caa7
SEQUENCE:0
DTSTAMP:20260423T062723
DTSTART;TZID=Europe/Berlin:20260222T100000
DTEND;TZID=Europe/Berlin:20260222T134000
SUMMARY:VSG Bestensee III vs Mahlower SV III
LOCATION:Landkostarena\, Goethestr. \, 15714 Bestensee\, Deutschland
DESCRIPTION:Rückrunde
END:VEVENT
BEGIN:VEVENT
UID:9dd974d7-9ef8-4a5a-99c0-e809dea95b2f
SEQUENCE:0
DTSTAMP:20260423T062723
DTSTART;TZID=Europe/Berlin:20260306T190000
DTEND;TZID=Europe/Berlin:20260306T220000
SUMMARY:Ludwigsfelder TTC V vs Mahlower SV III
LOCATION:Stadtsporthalle Ludwigsfelde\, Potsdamer Str. 51-53\, 14974 Ludwi
 gsfelde\, Deutschland
DESCRIPTION:Rückrunde
END:VEVENT
BEGIN:VEVENT
UID:1801a120-16c8-415d-9184-72ce653753f4
SEQUENCE:0
DTSTAMP:20260423T062723
DTSTART;TZID=Europe/Berlin:20260320T193000
DTEND;TZID=Europe/Berlin:20260320T223000
SUMMARY:1. TTC Zossen vs Mahlower SV III
LOCATION:Sporthalle über der Feuerwehr\, An der Wache\, 15806 Zossen\, De
 utschland
DESCRIPTION:Rückrunde
END:VEVENT
BEGIN:VEVENT
UID:a6d9ed58-15ee-4960-9cfa-60cd61af5b3a
SEQUENCE:0
DTSTAMP:20260423T062723
DTSTART;TZID=Europe/Berlin:20260411T140000
DTEND;TZID=Europe/Berlin:20260411T170000
SUMMARY:SV Blau-Weiß Dahlewitz IV vs Mahlower SV III
LOCATION:Sporthalle\, Bahnhofstr. 63\, 15827 Dahlewitz\, Deutschland
DESCRIPTION:Rückrunde
END:VEVENT
BEGIN:VEVENT
UID:7b9cdb89-f81f-4052-9638-c184a5e3f2d3
SEQUENCE:0
DTSTAMP:20260423T062723
DTSTART;TZID=Europe/Berlin:20260417T193000
DTEND;TZID=Europe/Berlin:20260417T223000
SUMMARY:Mahlower SV III vs SG Einheit Luckenwalde IV
LOCATION:Turnhalle Weidenhof\, Weidenhof Nr. 4\, 15831 Mahlow\, Deutschlan
 d
DESCRIPTION:Rückrunde
END:VEVENT
BEGIN:VEVENT
UID:8095af6d-fafa-421c-8d95-3aba2a04d8f2
SEQUENCE:0
DTSTAMP:20260423T062723
DTSTART;TZID=Europe/Berlin:20260424T193000
DTEND;TZID=Europe/Berlin:20260424T223000
SUMMARY:Heideseer SV vs Mahlower SV III
LOCATION:Schulsporthalle\, Kastanienallee\, 15754 Heidesee/OT Friedersdorf
 \, Deutschland
DESCRIPTION:Rückrunde
END:VEVENT
END:VCALENDAR