BEGIN:VCALENDAR
VERSION:2.0
PRODID:-//sebbo.net//ical-generator//EN
URL:https://www.mytischtennis.de/community/exportICSCalendar?teamids=29560
 76
NAME:Termine von Mahlower SV II
X-WR-CALNAME:Termine von Mahlower SV II
TIMEZONE-ID:Europe/Berlin
X-WR-TIMEZONE:Europe/Berlin
BEGIN:VEVENT
UID:1e5e1585-6a75-41d2-8a52-48a1d5b2af2b
SEQUENCE:0
DTSTAMP:20260423T031325
DTSTART;TZID=Europe/Berlin:20250912T193000
DTEND;TZID=Europe/Berlin:20250912T223000
SUMMARY:Mahlower SV II vs SV Blau-Weiß Dahlewitz III
LOCATION:Turnhalle Weidenhof\, Weidenhof Nr. 4\, 15831 Mahlow\, Deutschlan
 d
DESCRIPTION:Vorrunde
END:VEVENT
BEGIN:VEVENT
UID:bc5e1291-bd7b-469b-a0a4-374a2a5a0c6d
SEQUENCE:0
DTSTAMP:20260423T031325
DTSTART;TZID=Europe/Berlin:20251004T140000
DTEND;TZID=Europe/Berlin:20251004T170000
SUMMARY:Mahlower SV II vs MTV Wünsdorf II
LOCATION:Turnhalle Weidenhof\, Weidenhof Nr. 4\, 15831 Mahlow\, Deutschlan
 d
DESCRIPTION:Vorrunde
END:VEVENT
BEGIN:VEVENT
UID:e09ae18f-32cc-429f-a20a-8348078210c2
SEQUENCE:0
DTSTAMP:20260423T031325
DTSTART;TZID=Europe/Berlin:20251010T190000
DTEND;TZID=Europe/Berlin:20251010T220000
SUMMARY:Ludwigsfelder TTC III vs Mahlower SV II
LOCATION:Sporthalle Gebrüder-Grimm-Grundschule\, E.-Thälmann-Str. 35\, 1
 4974 Ludwigsfelde\, Deutschland
DESCRIPTION:Vorrunde
END:VEVENT
BEGIN:VEVENT
UID:53e3b9da-566c-4909-a5ee-0c2aa45de2fc
SEQUENCE:0
DTSTAMP:20260423T031325
DTSTART;TZID=Europe/Berlin:20251018T140000
DTEND;TZID=Europe/Berlin:20251018T170000
SUMMARY:Mahlower SV II vs TTBC Jüterbog
LOCATION:Turnhalle Weidenhof\, Weidenhof Nr. 4\, 15831 Mahlow\, Deutschlan
 d
DESCRIPTION:Vorrunde
END:VEVENT
BEGIN:VEVENT
UID:b1c7f9b4-d9bd-4284-9464-f962e69be3e3
SEQUENCE:0
DTSTAMP:20260423T031325
DTSTART;TZID=Europe/Berlin:20251025T140000
DTEND;TZID=Europe/Berlin:20251025T170000
SUMMARY:SG Einheit Luckenwalde III vs Mahlower SV II
LOCATION:Turnhalle Luckenwalde\, Kleiner Haag 7\, 14943 Luckenwalde\, Deut
 schland
DESCRIPTION:Vorrunde
END:VEVENT
BEGIN:VEVENT
UID:78e004c5-9d85-444f-ab30-0789c4a284fb
SEQUENCE:0
DTSTAMP:20260423T031325
DTSTART;TZID=Europe/Berlin:20251107T193000
DTEND;TZID=Europe/Berlin:20251107T230000
SUMMARY:Mahlower SV II vs VSG Bestensee II
LOCATION:Turnhalle Weidenhof\, Weidenhof Nr. 4\, 15831 Mahlow\, Deutschlan
 d
DESCRIPTION:Vorrunde
END:VEVENT
BEGIN:VEVENT
UID:5f45aa1e-0551-4cf2-a094-dffbd80aea7e
SEQUENCE:0
DTSTAMP:20260423T031325
DTSTART;TZID=Europe/Berlin:20251115T150000
DTEND;TZID=Europe/Berlin:20251115T180000
SUMMARY:KSV Sperenberg II vs Mahlower SV II
LOCATION:TH der Anne Frank Grundschule in Sperenberg\, Puschkinstr. 7\, 15
 838 Am Mellensee\, Deutschland
DESCRIPTION:Vorrunde
END:VEVENT
BEGIN:VEVENT
UID:901a323f-5cc2-40dd-a604-e7405dc0a2ec
SEQUENCE:0
DTSTAMP:20260423T031325
DTSTART;TZID=Europe/Berlin:20251128T193000
DTEND;TZID=Europe/Berlin:20251128T223000
SUMMARY:Mahlower SV II vs SV Grün-Weiß Großbeeren
LOCATION:Turnhalle Weidenhof\, Weidenhof Nr. 4\, 15831 Mahlow\, Deutschlan
 d
DESCRIPTION:Vorrunde
END:VEVENT
BEGIN:VEVENT
UID:31970eb6-fea9-4fc6-a2f9-1076c70b10c5
SEQUENCE:0
DTSTAMP:20260423T031325
DTSTART;TZID=Europe/Berlin:20251205T193000
DTEND;TZID=Europe/Berlin:20251205T223000
SUMMARY:Mahlower SV II vs Ludwigsfelder TTC IV
LOCATION:Turnhalle Weidenhof\, Weidenhof Nr. 4\, 15831 Mahlow\, Deutschlan
 d
DESCRIPTION:Vorrunde
END:VEVENT
BEGIN:VEVENT
UID:5c7d3e59-7cad-4bb6-b1f9-bac3c0254338
SEQUENCE:0
DTSTAMP:20260423T031325
DTSTART;TZID=Europe/Berlin:20260110T143000
DTEND;TZID=Europe/Berlin:20260110T173000
SUMMARY:SV Blau-Weiß Dahlewitz III vs Mahlower SV II
LOCATION:Sporthalle\, Bahnhofstr. 63\, 15827 Dahlewitz\, Deutschland
DESCRIPTION:Rückrunde
END:VEVENT
BEGIN:VEVENT
UID:a4b59c4a-1fb1-48df-bdc2-1acd225f9fb2
SEQUENCE:0
DTSTAMP:20260423T031325
DTSTART;TZID=Europe/Berlin:20260124T140000
DTEND;TZID=Europe/Berlin:20260124T173000
SUMMARY:Mahlower SV II vs SG Einheit Luckenwalde III
LOCATION:Turnhalle Weidenhof\, Weidenhof Nr. 4\, 15831 Mahlow\, Deutschlan
 d
DESCRIPTION:Rückrunde
END:VEVENT
BEGIN:VEVENT
UID:0c3bfb7b-0d9f-4d1f-8e10-2dca00dd00bf
SEQUENCE:0
DTSTAMP:20260423T031325
DTSTART;TZID=Europe/Berlin:20260214T140000
DTEND;TZID=Europe/Berlin:20260214T170000
SUMMARY:MTV Wünsdorf II vs Mahlower SV II
LOCATION:Oberschule Wünsdorf (Comenius)\, Chausseestrasse 6\, 15806 Zosse
 n (OT Wünsdorf)\, Deutschland
DESCRIPTION:Rückrunde
END:VEVENT
BEGIN:VEVENT
UID:57ec22d5-84a4-4701-a838-b456b0b2499b
SEQUENCE:0
DTSTAMP:20260423T031325
DTSTART;TZID=Europe/Berlin:20260221T140000
DTEND;TZID=Europe/Berlin:20260221T170000
SUMMARY:Mahlower SV II vs Ludwigsfelder TTC III
LOCATION:Turnhalle Weidenhof\, Weidenhof Nr. 4\, 15831 Mahlow\, Deutschlan
 d
DESCRIPTION:Rückrunde
END:VEVENT
BEGIN:VEVENT
UID:f32cf9ec-1b9c-4540-9924-e3532395233a
SEQUENCE:0
DTSTAMP:20260423T031325
DTSTART;TZID=Europe/Berlin:20260314T140000
DTEND;TZID=Europe/Berlin:20260314T170000
SUMMARY:TTBC Jüterbog vs Mahlower SV II
LOCATION:Sporthalle\, Schulstr. \, 14913 Jüterbog\, Deutschland
DESCRIPTION:Rückrunde
END:VEVENT
BEGIN:VEVENT
UID:d7e360db-55df-4899-a30a-57fee6a9a636
SEQUENCE:0
DTSTAMP:20260423T031325
DTSTART;TZID=Europe/Berlin:20260321T140000
DTEND;TZID=Europe/Berlin:20260321T170000
SUMMARY:Mahlower SV II vs KSV Sperenberg II
LOCATION:Turnhalle Weidenhof\, Weidenhof Nr. 4\, 15831 Mahlow\, Deutschlan
 d
DESCRIPTION:Rückrunde
END:VEVENT
BEGIN:VEVENT
UID:a42fd1c3-644b-4202-8b5c-c6b384be9921
SEQUENCE:0
DTSTAMP:20260423T031325
DTSTART;TZID=Europe/Berlin:20260327T190000
DTEND;TZID=Europe/Berlin:20260327T220000
SUMMARY:SV Grün-Weiß Großbeeren vs Mahlower SV II
LOCATION:Mehrzweckhalle\, Teltower Str. 1\, 14979 Großbeeren\, Deutschlan
 d
DESCRIPTION:Rückrunde
END:VEVENT
BEGIN:VEVENT
UID:266cea5b-4b0e-405e-a371-adab7cc9c7c2
SEQUENCE:0
DTSTAMP:20260423T031325
DTSTART;TZID=Europe/Berlin:20260410T190000
DTEND;TZID=Europe/Berlin:20260410T221500
SUMMARY:VSG Bestensee II vs Mahlower SV II
LOCATION:Landkostarena\, Goethestr. \, 15714 Bestensee\, Deutschland
DESCRIPTION:Rückrunde
END:VEVENT
BEGIN:VEVENT
UID:fdb8ec92-3d87-4afb-839a-44c51c420b7c
SEQUENCE:0
DTSTAMP:20260423T031325
DTSTART;TZID=Europe/Berlin:20260426T100000
DTEND;TZID=Europe/Berlin:20260426T130000
SUMMARY:Ludwigsfelder TTC IV vs Mahlower SV II
LOCATION:Stadtsporthalle Ludwigsfelde\, Potsdamer Str. 51-53\, 14974 Ludwi
 gsfelde\, Deutschland
DESCRIPTION:Rückrunde
END:VEVENT
END:VCALENDAR