BEGIN:VCALENDAR
VERSION:2.0
PRODID:-//sebbo.net//ical-generator//EN
URL:https://www.mytischtennis.de/community/exportICSCalendar?teamids=29560
 54
NAME:Termine von Mahlower SV VII
X-WR-CALNAME:Termine von Mahlower SV VII
TIMEZONE-ID:Europe/Berlin
X-WR-TIMEZONE:Europe/Berlin
BEGIN:VEVENT
UID:28b3c7d7-09b6-4c1b-9042-10adc672270a
SEQUENCE:0
DTSTAMP:20260421T212739
DTSTART;TZID=Europe/Berlin:20250915T190000
DTEND;TZID=Europe/Berlin:20250915T220000
SUMMARY:VSG Bestensee IV vs Mahlower SV VII
LOCATION:Landkostarena\, Goethestr. \, 15714 Bestensee\, Deutschland
DESCRIPTION:Vorrunde
END:VEVENT
BEGIN:VEVENT
UID:8c6499bd-92fb-4e22-b6f0-33a260bd5e4f
SEQUENCE:0
DTSTAMP:20260421T212739
DTSTART;TZID=Europe/Berlin:20251010T193000
DTEND;TZID=Europe/Berlin:20251010T223000
SUMMARY:Mahlower SV VII vs SG Concordia Ludwigsfelde
LOCATION:Turnhalle Weidenhof\, Weidenhof Nr. 4\, 15831 Mahlow\, Deutschlan
 d
DESCRIPTION:Vorrunde
END:VEVENT
BEGIN:VEVENT
UID:e0dbf678-0c32-40f5-b9ed-eca830690f7b
SEQUENCE:0
DTSTAMP:20260421T212739
DTSTART;TZID=Europe/Berlin:20251024T193000
DTEND;TZID=Europe/Berlin:20251024T223000
SUMMARY:Mahlower SV VII vs SG Woltersdorf II
LOCATION:Turnhalle Weidenhof\, Weidenhof Nr. 4\, 15831 Mahlow\, Deutschlan
 d
DESCRIPTION:Vorrunde
END:VEVENT
BEGIN:VEVENT
UID:5576c75f-5e2b-4c82-8833-19e01bc45108
SEQUENCE:0
DTSTAMP:20260421T212739
DTSTART;TZID=Europe/Berlin:20251107T193000
DTEND;TZID=Europe/Berlin:20251107T223000
SUMMARY:SV Blau-Weiß Dahlewitz V vs Mahlower SV VII
LOCATION:Sporthalle\, Bahnhofstr. 63\, 15827 Dahlewitz\, Deutschland
DESCRIPTION:Vorrunde
END:VEVENT
BEGIN:VEVENT
UID:75bbb708-a252-4f11-bf0a-beefa5793960
SEQUENCE:0
DTSTAMP:20260421T212739
DTSTART;TZID=Europe/Berlin:20251115T100000
DTEND;TZID=Europe/Berlin:20251115T130000
SUMMARY:TTBC Jüterbog II vs Mahlower SV VII
LOCATION:Sporthalle\, Schulstr. \, 14913 Jüterbog\, Deutschland
DESCRIPTION:Vorrunde
END:VEVENT
BEGIN:VEVENT
UID:bbf089ff-8c8a-43f4-9938-70ac572aac25
SEQUENCE:0
DTSTAMP:20260421T212739
DTSTART;TZID=Europe/Berlin:20251121T193000
DTEND;TZID=Europe/Berlin:20251121T223000
SUMMARY:Mahlower SV VII vs SG Einheit Luckenwalde V
LOCATION:Turnhalle Weidenhof\, Weidenhof Nr. 4\, 15831 Mahlow\, Deutschlan
 d
DESCRIPTION:Vorrunde
END:VEVENT
BEGIN:VEVENT
UID:2b1ad936-49cc-442f-a3b2-de3da5a6b5d6
SEQUENCE:0
DTSTAMP:20260421T212739
DTSTART;TZID=Europe/Berlin:20251128T193000
DTEND;TZID=Europe/Berlin:20251128T223000
SUMMARY:SV Fichte Baruth II vs Mahlower SV VII
LOCATION:Turnhalle Oberschule Baruth\, Wiesenweg\, 15837 Baruth/Mark\, Deu
 tschland
DESCRIPTION:Vorrunde
END:VEVENT
BEGIN:VEVENT
UID:65a8f0a3-23ff-49d5-8f25-db762985de4d
SEQUENCE:0
DTSTAMP:20260421T212739
DTSTART;TZID=Europe/Berlin:20251205T193000
DTEND;TZID=Europe/Berlin:20251205T223000
SUMMARY:Mahlower SV VII vs MTV Wünsdorf IV
LOCATION:Turnhalle Weidenhof\, Weidenhof Nr. 4\, 15831 Mahlow\, Deutschlan
 d
DESCRIPTION:Vorrunde
END:VEVENT
BEGIN:VEVENT
UID:2017aaa2-aa8f-4e33-894e-e5085b2e9539
SEQUENCE:0
DTSTAMP:20260421T212739
DTSTART;TZID=Europe/Berlin:20260116T193000
DTEND;TZID=Europe/Berlin:20260116T223000
SUMMARY:Mahlower SV VII vs VSG Bestensee IV
LOCATION:Turnhalle Weidenhof\, Weidenhof Nr. 4\, 15831 Mahlow\, Deutschlan
 d
DESCRIPTION:Rückrunde
END:VEVENT
BEGIN:VEVENT
UID:726b0a3d-3af8-4a51-8fdc-e820b4344f7c
SEQUENCE:0
DTSTAMP:20260421T212739
DTSTART;TZID=Europe/Berlin:20260125T100000
DTEND;TZID=Europe/Berlin:20260125T130000
SUMMARY:SG Woltersdorf II vs Mahlower SV VII
LOCATION:Turnhalle Woltersdorf\, Schulstr.\, 14947 Nuthe-Urstromtal\, Deut
 schland
DESCRIPTION:Rückrunde
END:VEVENT
BEGIN:VEVENT
UID:32df6f5b-81bb-4c14-8b30-4801fb76db4e
SEQUENCE:0
DTSTAMP:20260421T212739
DTSTART;TZID=Europe/Berlin:20260213T193000
DTEND;TZID=Europe/Berlin:20260213T223000
SUMMARY:Mahlower SV VII vs SV Blau-Weiß Dahlewitz V
LOCATION:Turnhalle Weidenhof\, Weidenhof Nr. 4\, 15831 Mahlow\, Deutschlan
 d
DESCRIPTION:Rückrunde
END:VEVENT
BEGIN:VEVENT
UID:30a2ecbc-f759-438a-a009-9f0cf0642c2d
SEQUENCE:0
DTSTAMP:20260421T212739
DTSTART;TZID=Europe/Berlin:20260220T193000
DTEND;TZID=Europe/Berlin:20260220T223000
SUMMARY:SG Concordia Ludwigsfelde vs Mahlower SV VII
LOCATION:TH Fontane Grundschule\, Theodor-Fontane-Straße 2A\, 14974 Ludwi
 gsfelde\, Deutschland
DESCRIPTION:Rückrunde
END:VEVENT
BEGIN:VEVENT
UID:effb512f-ef83-43f4-b70e-b6ba6fe42c6b
SEQUENCE:0
DTSTAMP:20260421T212739
DTSTART;TZID=Europe/Berlin:20260320T193000
DTEND;TZID=Europe/Berlin:20260320T223000
SUMMARY:Mahlower SV VII vs TTBC Jüterbog II
LOCATION:Turnhalle Weidenhof\, Weidenhof Nr. 4\, 15831 Mahlow\, Deutschlan
 d
DESCRIPTION:Rückrunde
END:VEVENT
BEGIN:VEVENT
UID:edab70cc-2515-481c-9b88-c90f5745e3c0
SEQUENCE:0
DTSTAMP:20260421T212739
DTSTART;TZID=Europe/Berlin:20260410T190000
DTEND;TZID=Europe/Berlin:20260410T224500
SUMMARY:SG Einheit Luckenwalde V vs Mahlower SV VII
LOCATION:Turnhalle Luckenwalde\, Kleiner Haag 7\, 14943 Luckenwalde\, Deut
 schland
DESCRIPTION:Rückrunde
END:VEVENT
BEGIN:VEVENT
UID:13e45de9-9a68-4b5b-a722-7c6de32e67c9
SEQUENCE:0
DTSTAMP:20260421T212739
DTSTART;TZID=Europe/Berlin:20260417T193000
DTEND;TZID=Europe/Berlin:20260417T223000
SUMMARY:Mahlower SV VII vs SV Fichte Baruth II
LOCATION:Turnhalle Weidenhof\, Weidenhof Nr. 4\, 15831 Mahlow\, Deutschlan
 d
DESCRIPTION:Rückrunde
END:VEVENT
BEGIN:VEVENT
UID:f5d46792-b32c-4e57-a070-4efe2c67accb
SEQUENCE:0
DTSTAMP:20260421T212739
DTSTART;TZID=Europe/Berlin:20260426T140000
DTEND;TZID=Europe/Berlin:20260426T170000
SUMMARY:MTV Wünsdorf IV vs Mahlower SV VII
LOCATION:Oberschule Wünsdorf (Comenius)\, Chausseestrasse 6\, 15806 Zosse
 n (OT Wünsdorf)\, Deutschland
DESCRIPTION:Rückrunde
END:VEVENT
END:VCALENDAR