BEGIN:VCALENDAR
VERSION:2.0
PRODID:-//sebbo.net//ical-generator//EN
URL:https://www.mytischtennis.de/community/exportICSCalendar?teamids=29558
 18
NAME:Termine von Mahlower SV
X-WR-CALNAME:Termine von Mahlower SV
TIMEZONE-ID:Europe/Berlin
X-WR-TIMEZONE:Europe/Berlin
BEGIN:VEVENT
UID:ccc56242-2bb0-48e2-b27f-5043bd86b16f
SEQUENCE:0
DTSTAMP:20260423T062733
DTSTART;TZID=Europe/Berlin:20250912T190000
DTEND;TZID=Europe/Berlin:20250912T220000
SUMMARY:Ludwigsfelder TTC II vs Mahlower SV
LOCATION:Sporthalle Gebrüder-Grimm-Grundschule\, E.-Thälmann-Str. 35\, 1
 4974 Ludwigsfelde\, Deutschland
DESCRIPTION:Vorrunde
END:VEVENT
BEGIN:VEVENT
UID:420cd1a5-195e-4603-9994-00a533306d19
SEQUENCE:0
DTSTAMP:20260423T062733
DTSTART;TZID=Europe/Berlin:20250926T193000
DTEND;TZID=Europe/Berlin:20250926T223000
SUMMARY:Mahlower SV vs Petkuser SV
LOCATION:Turnhalle Weidenhof\, Weidenhof Nr. 4\, 15831 Mahlow\, Deutschlan
 d
DESCRIPTION:Vorrunde
END:VEVENT
BEGIN:VEVENT
UID:f313039a-46f1-4ec4-b217-a1d47af138f1
SEQUENCE:0
DTSTAMP:20260423T062733
DTSTART;TZID=Europe/Berlin:20251004T140000
DTEND;TZID=Europe/Berlin:20251004T180000
SUMMARY:TSV Treuenbrietzen vs Mahlower SV
LOCATION:TH Albert-Schweitzer-Schule \, Albert-Schweitzer-Str.23\, 14929 T
 reuenbrietzen\, Deutschland
DESCRIPTION:Vorrunde
END:VEVENT
BEGIN:VEVENT
UID:ee84fffe-608a-45f8-9480-a32d4e64b7dd
SEQUENCE:0
DTSTAMP:20260423T062733
DTSTART;TZID=Europe/Berlin:20251011T140000
DTEND;TZID=Europe/Berlin:20251011T170000
SUMMARY:SG Einheit Luckenwalde vs Mahlower SV
LOCATION:Turnhalle Luckenwalde\, Kleiner Haag 7\, 14943 Luckenwalde\, Deut
 schland
DESCRIPTION:Vorrunde
END:VEVENT
BEGIN:VEVENT
UID:2b6591a9-3de0-4b6c-b43d-9ed77d9a3483
SEQUENCE:0
DTSTAMP:20260423T062733
DTSTART;TZID=Europe/Berlin:20251017T193000
DTEND;TZID=Europe/Berlin:20251017T223000
SUMMARY:Mahlower SV vs KSV Sperenberg
LOCATION:Turnhalle Weidenhof\, Weidenhof Nr. 4\, 15831 Mahlow\, Deutschlan
 d
DESCRIPTION:Vorrunde
END:VEVENT
BEGIN:VEVENT
UID:e7c700cd-2093-4778-a2a8-91c6ad9bda7d
SEQUENCE:0
DTSTAMP:20260423T062733
DTSTART;TZID=Europe/Berlin:20251114T193000
DTEND;TZID=Europe/Berlin:20251114T233000
SUMMARY:TTV Einheit Potsdam II vs Mahlower SV
LOCATION:Sporthalle der Voltaireschule Potsdam\, Lindenstraße 32/33\, 144
 67 Potsdam\, Deutschland
DESCRIPTION:Vorrunde
END:VEVENT
BEGIN:VEVENT
UID:74661e9a-cf76-45e2-b65b-de1772eb22a8
SEQUENCE:0
DTSTAMP:20260423T062733
DTSTART;TZID=Europe/Berlin:20251121T193000
DTEND;TZID=Europe/Berlin:20251121T223000
SUMMARY:Mahlower SV vs SG Einheit Luckenwalde II
LOCATION:Turnhalle Weidenhof\, Weidenhof Nr. 4\, 15831 Mahlow\, Deutschlan
 d
DESCRIPTION:Vorrunde
END:VEVENT
BEGIN:VEVENT
UID:41ab49a7-8c6f-4ee1-bd81-839071b8b828
SEQUENCE:0
DTSTAMP:20260423T062733
DTSTART;TZID=Europe/Berlin:20251129T140000
DTEND;TZID=Europe/Berlin:20251129T172000
SUMMARY:SV Blau-Weiß Dahlewitz II vs Mahlower SV
LOCATION:Sporthalle\, Bahnhofstr. 63\, 15827 Dahlewitz\, Deutschland
DESCRIPTION:Vorrunde
END:VEVENT
BEGIN:VEVENT
UID:7c95f84c-535a-473d-9dd7-06120864f7ac
SEQUENCE:0
DTSTAMP:20260423T062733
DTSTART;TZID=Europe/Berlin:20251205T193000
DTEND;TZID=Europe/Berlin:20251205T230000
SUMMARY:Mahlower SV vs TSV Stahnsdorf IV
LOCATION:Turnhalle Weidenhof\, Weidenhof Nr. 4\, 15831 Mahlow\, Deutschlan
 d
DESCRIPTION:Vorrunde
END:VEVENT
BEGIN:VEVENT
UID:4e5c54b3-69b2-4dbf-9fbd-c811acf82b6a
SEQUENCE:0
DTSTAMP:20260423T062733
DTSTART;TZID=Europe/Berlin:20260109T193000
DTEND;TZID=Europe/Berlin:20260109T223000
SUMMARY:Mahlower SV vs Ludwigsfelder TTC II
LOCATION:Turnhalle Weidenhof\, Weidenhof Nr. 4\, 15831 Mahlow\, Deutschlan
 d
DESCRIPTION:Rückrunde
END:VEVENT
END:VCALENDAR