BEGIN:VCALENDAR
VERSION:2.0
PRODID:-//sebbo.net//ical-generator//EN
URL:https://www.mytischtennis.de/community/exportICSCalendar?teamids=29554
 65
NAME:Termine von Mahlower SV II
X-WR-CALNAME:Termine von Mahlower SV II
TIMEZONE-ID:Europe/Berlin
X-WR-TIMEZONE:Europe/Berlin
BEGIN:VEVENT
UID:006562ca-645b-46d1-b840-f915e267d454
SEQUENCE:0
DTSTAMP:20260420T102858
DTSTART;TZID=Europe/Berlin:20250920T123000
DTEND;TZID=Europe/Berlin:20250920T153000
SUMMARY:SV Fichte Baruth vs Mahlower SV II
LOCATION:Turnhalle Oberschule Baruth\, Wiesenweg\, 15837 Baruth/Mark\, Deu
 tschland
DESCRIPTION:Vorrunde
END:VEVENT
BEGIN:VEVENT
UID:ab5d05d4-738e-4d3b-973b-cc54bf708476
SEQUENCE:0
DTSTAMP:20260420T102858
DTSTART;TZID=Europe/Berlin:20250920T100000
DTEND;TZID=Europe/Berlin:20250920T130000
SUMMARY:SV Fichte Baruth II vs Mahlower SV II
LOCATION:Turnhalle Oberschule Baruth\, Wiesenweg\, 15837 Baruth/Mark\, Deu
 tschland
DESCRIPTION:Vorrunde
END:VEVENT
BEGIN:VEVENT
UID:c8de312a-c603-49d3-8dc8-228db9e48232
SEQUENCE:0
DTSTAMP:20260420T102858
DTSTART;TZID=Europe/Berlin:20251004T100000
DTEND;TZID=Europe/Berlin:20251004T130000
SUMMARY:Mahlower SV II vs KSV Sperenberg
LOCATION:Turnhalle Weidenhof\, Weidenhof Nr. 4\, 15831 Mahlow\, Deutschlan
 d
DESCRIPTION:Vorrunde
END:VEVENT
BEGIN:VEVENT
UID:d75424ec-a4ea-466d-b168-2b739febe9b2
SEQUENCE:0
DTSTAMP:20260420T102858
DTSTART;TZID=Europe/Berlin:20251019T095000
DTEND;TZID=Europe/Berlin:20251019T125000
SUMMARY:SG Einheit Luckenwalde III vs Mahlower SV II
LOCATION:Turnhalle Luckenwalde\, Kleiner Haag 7\, 14943 Luckenwalde\, Deut
 schland
DESCRIPTION:Vorrunde
END:VEVENT
BEGIN:VEVENT
UID:9fca48a0-13f1-4424-8071-e22ac6179198
SEQUENCE:0
DTSTAMP:20260420T102858
DTSTART;TZID=Europe/Berlin:20251101T130000
DTEND;TZID=Europe/Berlin:20251101T160000
SUMMARY:Ludwigsfelder TTC II vs Mahlower SV II
LOCATION:Sporthalle Gebrüder-Grimm-Grundschule\, E.-Thälmann-Str. 35\, 1
 4974 Ludwigsfelde\, Deutschland
DESCRIPTION:Vorrunde
END:VEVENT
BEGIN:VEVENT
UID:fe1e6907-bfd2-4a71-9f9f-f4994381cee6
SEQUENCE:0
DTSTAMP:20260420T102858
DTSTART;TZID=Europe/Berlin:20251108T100000
DTEND;TZID=Europe/Berlin:20251108T130000
SUMMARY:Mahlower SV II vs VSG Bestensee
LOCATION:Turnhalle Weidenhof\, Weidenhof Nr. 4\, 15831 Mahlow\, Deutschlan
 d
DESCRIPTION:Vorrunde
END:VEVENT
BEGIN:VEVENT
UID:6805250d-6572-45c4-9755-3a7a26f62c86
SEQUENCE:0
DTSTAMP:20260420T102858
DTSTART;TZID=Europe/Berlin:20251115T100000
DTEND;TZID=Europe/Berlin:20251115T130000
SUMMARY:Mahlower SV II vs SV Blau-Weiß Dahlewitz
LOCATION:Turnhalle Weidenhof\, Weidenhof Nr. 4\, 15831 Mahlow\, Deutschlan
 d
DESCRIPTION:Vorrunde
END:VEVENT
BEGIN:VEVENT
UID:28814425-a739-49a9-b4ce-c8226a01a65a
SEQUENCE:0
DTSTAMP:20260420T102858
DTSTART;TZID=Europe/Berlin:20251123T100000
DTEND;TZID=Europe/Berlin:20251123T130000
SUMMARY:SV Blau-Weiß Dahlewitz II vs Mahlower SV II
LOCATION:Sporthalle\, Bahnhofstr. 63\, 15827 Dahlewitz\, Deutschland
DESCRIPTION:Vorrunde
END:VEVENT
BEGIN:VEVENT
UID:7d5c947d-d2d5-46f5-9f05-26c89491fb8b
SEQUENCE:0
DTSTAMP:20260420T102858
DTSTART;TZID=Europe/Berlin:20251130T100000
DTEND;TZID=Europe/Berlin:20251130T130000
SUMMARY:Ludwigsfelder TTC III vs Mahlower SV II
LOCATION:Stadtsporthalle Ludwigsfelde\, Potsdamer Str. 51-53\, 14974 Ludwi
 gsfelde\, Deutschland
DESCRIPTION:Vorrunde
END:VEVENT
BEGIN:VEVENT
UID:6963eef1-ee8e-4757-9b2d-6bb037183c90
SEQUENCE:0
DTSTAMP:20260420T102858
DTSTART;TZID=Europe/Berlin:20260117T130000
DTEND;TZID=Europe/Berlin:20260117T160000
SUMMARY:VSG Bestensee vs Mahlower SV II
LOCATION:Landkostarena\, Goethestr. \, 15714 Bestensee\, Deutschland
DESCRIPTION:Rückrunde
END:VEVENT
BEGIN:VEVENT
UID:0f366318-3817-4efc-9ee9-59843f4dc8d3
SEQUENCE:0
DTSTAMP:20260420T102858
DTSTART;TZID=Europe/Berlin:20260124T100000
DTEND;TZID=Europe/Berlin:20260124T130000
SUMMARY:Mahlower SV II vs SV Fichte Baruth
LOCATION:Turnhalle Weidenhof\, Weidenhof Nr. 4\, 15831 Mahlow\, Deutschlan
 d
DESCRIPTION:Rückrunde
END:VEVENT
BEGIN:VEVENT
UID:4b650cda-aadd-4938-8fe5-4c319dbd1cea
SEQUENCE:0
DTSTAMP:20260420T102858
DTSTART;TZID=Europe/Berlin:20260214T100000
DTEND;TZID=Europe/Berlin:20260214T130000
SUMMARY:Mahlower SV II vs SV Fichte Baruth II
LOCATION:Turnhalle Weidenhof\, Weidenhof Nr. 4\, 15831 Mahlow\, Deutschlan
 d
DESCRIPTION:Rückrunde
END:VEVENT
BEGIN:VEVENT
UID:04e600fd-12b4-4272-b2f8-41e0a9fe32c6
SEQUENCE:0
DTSTAMP:20260420T102858
DTSTART;TZID=Europe/Berlin:20260221T100000
DTEND;TZID=Europe/Berlin:20260221T130000
SUMMARY:KSV Sperenberg vs Mahlower SV II
LOCATION:TH der Anne Frank Grundschule in Sperenberg\, Puschkinstr. 7\, 15
 838 Am Mellensee\, Deutschland
DESCRIPTION:Rückrunde
END:VEVENT
BEGIN:VEVENT
UID:cc3fac88-9177-49dc-9f62-0543e0a3fa2d
SEQUENCE:0
DTSTAMP:20260420T102858
DTSTART;TZID=Europe/Berlin:20260314T100000
DTEND;TZID=Europe/Berlin:20260315T002000
SUMMARY:Mahlower SV II vs Ludwigsfelder TTC II
LOCATION:Turnhalle Weidenhof\, Weidenhof Nr. 4\, 15831 Mahlow\, Deutschlan
 d
DESCRIPTION:Rückrunde
END:VEVENT
BEGIN:VEVENT
UID:1e33a20a-412e-4ca4-a899-bfd542576af7
SEQUENCE:0
DTSTAMP:20260420T102858
DTSTART;TZID=Europe/Berlin:20260321T100000
DTEND;TZID=Europe/Berlin:20260321T130000
SUMMARY:Mahlower SV II vs SV Blau-Weiß Dahlewitz II
LOCATION:Turnhalle Weidenhof\, Weidenhof Nr. 4\, 15831 Mahlow\, Deutschlan
 d
DESCRIPTION:Rückrunde
END:VEVENT
BEGIN:VEVENT
UID:6b4760f2-d980-4f9b-9b90-87277b536716
SEQUENCE:0
DTSTAMP:20260420T102858
DTSTART;TZID=Europe/Berlin:20260418T100000
DTEND;TZID=Europe/Berlin:20260418T130000
SUMMARY:Mahlower SV II vs SG Einheit Luckenwalde III
LOCATION:Turnhalle Weidenhof\, Weidenhof Nr. 4\, 15831 Mahlow\, Deutschlan
 d
DESCRIPTION:Rückrunde
END:VEVENT
BEGIN:VEVENT
UID:9a4c5b1e-4a4d-406a-ba55-336cb131612b
SEQUENCE:0
DTSTAMP:20260420T102858
DTSTART;TZID=Europe/Berlin:20260425T100000
DTEND;TZID=Europe/Berlin:20260425T130000
SUMMARY:Mahlower SV II vs Ludwigsfelder TTC III
LOCATION:Turnhalle Weidenhof\, Weidenhof Nr. 4\, 15831 Mahlow\, Deutschlan
 d
DESCRIPTION:Rückrunde
END:VEVENT
BEGIN:VEVENT
UID:9bc4b7f5-76f7-450e-85c0-439afe3e6652
SEQUENCE:0
DTSTAMP:20260420T102858
DTSTART;TZID=Europe/Berlin:20260426T100000
DTEND;TZID=Europe/Berlin:20260426T130000
SUMMARY:SV Blau-Weiß Dahlewitz vs Mahlower SV II
LOCATION:Sporthalle\, Bahnhofstr. 63\, 15827 Dahlewitz\, Deutschland
DESCRIPTION:Rückrunde
END:VEVENT
END:VCALENDAR