BEGIN:VCALENDAR
VERSION:2.0
PRODID:-//sebbo.net//ical-generator//EN
URL:https://www.mytischtennis.de/community/exportICSCalendar?teamids=29554
 25
NAME:Termine von Mahlower SV IV
X-WR-CALNAME:Termine von Mahlower SV IV
TIMEZONE-ID:Europe/Berlin
X-WR-TIMEZONE:Europe/Berlin
BEGIN:VEVENT
UID:06167ff7-c140-4ceb-bee9-f92abeb13392
SEQUENCE:0
DTSTAMP:20260423T081233
DTSTART;TZID=Europe/Berlin:20250905T193000
DTEND;TZID=Europe/Berlin:20250905T223000
SUMMARY:Mahlower SV III vs Mahlower SV IV
LOCATION:Turnhalle Weidenhof\, Weidenhof Nr. 4\, 15831 Mahlow\, Deutschlan
 d
DESCRIPTION:Vorrunde
END:VEVENT
BEGIN:VEVENT
UID:9f3920bf-1d1b-484b-9747-1a3ad11c7a3d
SEQUENCE:0
DTSTAMP:20260423T081233
DTSTART;TZID=Europe/Berlin:20250914T100000
DTEND;TZID=Europe/Berlin:20250914T130000
SUMMARY:Ludwigsfelder TTC V vs Mahlower SV IV
LOCATION:Stadtsporthalle Ludwigsfelde\, Potsdamer Str. 51-53\, 14974 Ludwi
 gsfelde\, Deutschland
DESCRIPTION:Vorrunde
END:VEVENT
BEGIN:VEVENT
UID:aa7719a1-30b7-41b2-91a3-c1d23b8eab38
SEQUENCE:0
DTSTAMP:20260423T081233
DTSTART;TZID=Europe/Berlin:20250926T193000
DTEND;TZID=Europe/Berlin:20250926T223000
SUMMARY:Mahlower SV IV vs VSG Bestensee III
LOCATION:Turnhalle Weidenhof\, Weidenhof Nr. 4\, 15831 Mahlow\, Deutschlan
 d
DESCRIPTION:Vorrunde
END:VEVENT
BEGIN:VEVENT
UID:4f728de4-441d-490d-9ecb-2e984766cc9b
SEQUENCE:0
DTSTAMP:20260423T081233
DTSTART;TZID=Europe/Berlin:20251010T193000
DTEND;TZID=Europe/Berlin:20251010T223000
SUMMARY:Mahlower SV IV vs 1. TTC Zossen
LOCATION:Turnhalle Weidenhof\, Weidenhof Nr. 4\, 15831 Mahlow\, Deutschlan
 d
DESCRIPTION:Vorrunde
END:VEVENT
BEGIN:VEVENT
UID:ff6cacf8-57e9-4541-9514-3f384854e538
SEQUENCE:0
DTSTAMP:20260423T081233
DTSTART;TZID=Europe/Berlin:20251017T190000
DTEND;TZID=Europe/Berlin:20251017T220000
SUMMARY:SG Einheit Luckenwalde IV vs Mahlower SV IV
LOCATION:Turnhalle Luckenwalde\, Kleiner Haag 7\, 14943 Luckenwalde\, Deut
 schland
DESCRIPTION:Vorrunde
END:VEVENT
BEGIN:VEVENT
UID:df2712a0-3af7-4903-99e8-1d1d3f90b0fa
SEQUENCE:0
DTSTAMP:20260423T081233
DTSTART;TZID=Europe/Berlin:20251114T193000
DTEND;TZID=Europe/Berlin:20251114T230000
SUMMARY:Mahlower SV IV vs SV Blau-Weiß Dahlewitz IV
LOCATION:Turnhalle Weidenhof\, Weidenhof Nr. 4\, 15831 Mahlow\, Deutschlan
 d
DESCRIPTION:Vorrunde
END:VEVENT
BEGIN:VEVENT
UID:51a4c1c0-22a4-42dd-a3f0-c765a775f2ce
SEQUENCE:0
DTSTAMP:20260423T081233
DTSTART;TZID=Europe/Berlin:20251115T140000
DTEND;TZID=Europe/Berlin:20251115T170000
SUMMARY:Mahlower SV IV vs Petkuser SV II
LOCATION:Turnhalle Weidenhof\, Weidenhof Nr. 4\, 15831 Mahlow\, Deutschlan
 d
DESCRIPTION:Vorrunde
END:VEVENT
BEGIN:VEVENT
UID:a6bc43b2-293c-4607-a877-716f2a89d3f5
SEQUENCE:0
DTSTAMP:20260423T081233
DTSTART;TZID=Europe/Berlin:20251121T193000
DTEND;TZID=Europe/Berlin:20251121T223000
SUMMARY:Heideseer SV vs Mahlower SV IV
LOCATION:Schulsporthalle\, Kastanienallee\, 15754 Heidesee/OT Friedersdorf
 \, Deutschland
DESCRIPTION:Vorrunde
END:VEVENT
BEGIN:VEVENT
UID:65d0ee82-d10e-46ac-b9da-ad1dc31985ae
SEQUENCE:0
DTSTAMP:20260423T081233
DTSTART;TZID=Europe/Berlin:20251128T193000
DTEND;TZID=Europe/Berlin:20251128T223000
SUMMARY:Mahlower SV IV vs SV Grün-Weiß Großbeeren II
LOCATION:Turnhalle Weidenhof\, Weidenhof Nr. 4\, 15831 Mahlow\, Deutschlan
 d
DESCRIPTION:Vorrunde
END:VEVENT
BEGIN:VEVENT
UID:055f7bbb-63eb-4e1a-81d3-cf9f5c00103b
SEQUENCE:0
DTSTAMP:20260423T081233
DTSTART;TZID=Europe/Berlin:20260109T193000
DTEND;TZID=Europe/Berlin:20260109T223000
SUMMARY:Mahlower SV IV vs Ludwigsfelder TTC V
LOCATION:Turnhalle Weidenhof\, Weidenhof Nr. 4\, 15831 Mahlow\, Deutschlan
 d
DESCRIPTION:Rückrunde
END:VEVENT
BEGIN:VEVENT
UID:35267c00-1db3-4c6f-a823-08bfd350f2d7
SEQUENCE:0
DTSTAMP:20260423T081233
DTSTART;TZID=Europe/Berlin:20260124T140000
DTEND;TZID=Europe/Berlin:20260124T174500
SUMMARY:VSG Bestensee III vs Mahlower SV IV
LOCATION:Landkostarena\, Goethestr. \, 15714 Bestensee\, Deutschland
DESCRIPTION:Rückrunde
END:VEVENT
BEGIN:VEVENT
UID:206bf542-4106-46c8-b1ce-54107b42c3b2
SEQUENCE:0
DTSTAMP:20260423T081233
DTSTART;TZID=Europe/Berlin:20260206T193000
DTEND;TZID=Europe/Berlin:20260206T223000
SUMMARY:Mahlower SV IV vs Mahlower SV III
LOCATION:Turnhalle Weidenhof\, Weidenhof Nr. 4\, 15831 Mahlow\, Deutschlan
 d
DESCRIPTION:Rückrunde
END:VEVENT
BEGIN:VEVENT
UID:2336561e-8026-466e-8b55-3b1e1bbe8498
SEQUENCE:0
DTSTAMP:20260423T081233
DTSTART;TZID=Europe/Berlin:20260220T193000
DTEND;TZID=Europe/Berlin:20260220T223000
SUMMARY:1. TTC Zossen vs Mahlower SV IV
LOCATION:Sporthalle über der Feuerwehr\, An der Wache\, 15806 Zossen\, De
 utschland
DESCRIPTION:Rückrunde
END:VEVENT
BEGIN:VEVENT
UID:399ea293-4a29-4168-9420-6e1ccf1eb44b
SEQUENCE:0
DTSTAMP:20260423T081233
DTSTART;TZID=Europe/Berlin:20260313T193000
DTEND;TZID=Europe/Berlin:20260313T223000
SUMMARY:Mahlower SV IV vs SG Einheit Luckenwalde IV
LOCATION:Turnhalle Weidenhof\, Weidenhof Nr. 4\, 15831 Mahlow\, Deutschlan
 d
DESCRIPTION:Rückrunde
END:VEVENT
BEGIN:VEVENT
UID:c715dc9c-b55e-4619-bcf3-d3b56a14e65c
SEQUENCE:0
DTSTAMP:20260423T081233
DTSTART;TZID=Europe/Berlin:20260321T140000
DTEND;TZID=Europe/Berlin:20260321T170000
SUMMARY:SV Blau-Weiß Dahlewitz IV vs Mahlower SV IV
LOCATION:Sporthalle\, Bahnhofstr. 63\, 15827 Dahlewitz\, Deutschland
DESCRIPTION:Rückrunde
END:VEVENT
BEGIN:VEVENT
UID:1d18cc5d-7f7d-4355-8841-6901bd2bfb64
SEQUENCE:0
DTSTAMP:20260423T081233
DTSTART;TZID=Europe/Berlin:20260410T190000
DTEND;TZID=Europe/Berlin:20260410T220000
SUMMARY:SV Grün-Weiß Großbeeren II vs Mahlower SV IV
LOCATION:Mehrzweckhalle\, Teltower Str. 1\, 14979 Großbeeren\, Deutschlan
 d
DESCRIPTION:Rückrunde
END:VEVENT
BEGIN:VEVENT
UID:4296c56f-c698-4ae7-80be-9426e912bfa1
SEQUENCE:0
DTSTAMP:20260423T081233
DTSTART;TZID=Europe/Berlin:20260417T193000
DTEND;TZID=Europe/Berlin:20260417T223000
SUMMARY:Mahlower SV IV vs Heideseer SV
LOCATION:Turnhalle Weidenhof\, Weidenhof Nr. 4\, 15831 Mahlow\, Deutschlan
 d
DESCRIPTION:Rückrunde
END:VEVENT
BEGIN:VEVENT
UID:9976c1be-d8d2-4f19-9720-6a5a32dd4557
SEQUENCE:0
DTSTAMP:20260423T081233
DTSTART;TZID=Europe/Berlin:20260424T190000
DTEND;TZID=Europe/Berlin:20260424T220000
SUMMARY:Petkuser SV II vs Mahlower SV IV
LOCATION:Sportzentrum Petkus\, Merzdorfer Straße 33\, 15837 Baruth/Markt 
 OT Petkus\, Deutschland
DESCRIPTION:Rückrunde
END:VEVENT
END:VCALENDAR