BEGIN:VCALENDAR
VERSION:2.0
PRODID:-//sebbo.net//ical-generator//EN
URL:https://www.mytischtennis.de/community/exportICSCalendar?teamids=28374
 94
NAME:Termine von TTC Winden II
X-WR-CALNAME:Termine von TTC Winden II
TIMEZONE-ID:Europe/Berlin
X-WR-TIMEZONE:Europe/Berlin
BEGIN:VEVENT
UID:49f9025b-6c16-4f10-bbb8-7de39fa0f5d7
SEQUENCE:0
DTSTAMP:20260420T141103
DTSTART;TZID=Europe/Berlin:20240830T200000
DTEND;TZID=Europe/Berlin:20240830T230000
SUMMARY:TTC Merzenich II vs TTC Winden II
LOCATION:Turnhalle der Schule\, Schulstr. 4 (Eingang gegenüber der Kirche
 )\, 52399 Merzenich\, Deutschland
DESCRIPTION:Vorrunde
END:VEVENT
BEGIN:VEVENT
UID:c5ae894e-dd2c-4787-a9e7-f0fe723208de
SEQUENCE:0
DTSTAMP:20260420T141103
DTSTART;TZID=Europe/Berlin:20240903T193000
DTEND;TZID=Europe/Berlin:20240903T223000
SUMMARY:TTC Winden II vs TTC BW Wollersheim II
LOCATION:Turnhalle Winden\, Maubacherstraße\, Eingang Urbanusstraße\, 52
 372 Kreuzau-Winden\, Deutschland
DESCRIPTION:Vorrunde
END:VEVENT
BEGIN:VEVENT
UID:bee973d7-37d1-4651-bdf2-36d953815542
SEQUENCE:0
DTSTAMP:20260420T141103
DTSTART;TZID=Europe/Berlin:20240913T193000
DTEND;TZID=Europe/Berlin:20240913T223000
SUMMARY:TTC Gürzenich III vs TTC Winden II
LOCATION:Sporthalle in Düren-Gürzenich\, Ratsstr.\, 52355 Düren\, Deuts
 chland
DESCRIPTION:Vorrunde
END:VEVENT
BEGIN:VEVENT
UID:3dce9398-314a-459c-b292-be035d1eb784
SEQUENCE:0
DTSTAMP:20260420T141103
DTSTART;TZID=Europe/Berlin:20241001T193000
DTEND;TZID=Europe/Berlin:20241001T223000
SUMMARY:TTC Winden II vs TTC Mariaweiler II
LOCATION:Turnhalle Winden\, Maubacherstraße\, Eingang Urbanusstraße\, 52
 372 Kreuzau-Winden\, Deutschland
DESCRIPTION:Vorrunde
END:VEVENT
BEGIN:VEVENT
UID:8825c6e2-729f-4d4a-bb4b-228397003e4d
SEQUENCE:0
DTSTAMP:20260420T141103
DTSTART;TZID=Europe/Berlin:20241008T193000
DTEND;TZID=Europe/Berlin:20241008T223000
SUMMARY:TTF Nörvenich/Eschweiler II vs TTC Winden II
LOCATION:Grundschule Eschweiler über Feld\, Josefstr. 2\, 52388 Nörvenic
 h\, Deutschland
DESCRIPTION:Vorrunde
END:VEVENT
BEGIN:VEVENT
UID:a9c9a4ac-b794-4c11-8813-b94419d71351
SEQUENCE:0
DTSTAMP:20260420T141103
DTSTART;TZID=Europe/Berlin:20241105T191000
DTEND;TZID=Europe/Berlin:20241105T221000
SUMMARY:TTC Winden II vs TTF Kreuzau V
LOCATION:Turnhalle Winden\, Maubacherstraße\, Eingang Urbanusstraße\, 52
 372 Kreuzau-Winden\, Deutschland
DESCRIPTION:Vorrunde
END:VEVENT
BEGIN:VEVENT
UID:a30cf4b4-a4c7-4675-ab49-dc6ae8c86d69
SEQUENCE:0
DTSTAMP:20260420T141103
DTSTART;TZID=Europe/Berlin:20241112T193000
DTEND;TZID=Europe/Berlin:20241112T223000
SUMMARY:TTC Winden II vs TTV Gey II
LOCATION:Turnhalle Winden\, Maubacherstraße\, Eingang Urbanusstraße\, 52
 372 Kreuzau-Winden\, Deutschland
DESCRIPTION:Vorrunde
END:VEVENT
BEGIN:VEVENT
UID:59395399-50a5-4ac9-bd81-252708b08cdc
SEQUENCE:0
DTSTAMP:20260420T141103
DTSTART;TZID=Europe/Berlin:20241118T193000
DTEND;TZID=Europe/Berlin:20241118T223000
SUMMARY:TV 1847 Düren IV vs TTC Winden II
LOCATION:Martin-Luther-Schule Wernersstr. 2\, Eingang Ecke Hohenzollernstr
 .\, 52351 Düren\, Deutschland
DESCRIPTION:Vorrunde
END:VEVENT
BEGIN:VEVENT
UID:3a69cca2-2716-491e-ae6b-dbb846f1ddb3
SEQUENCE:0
DTSTAMP:20260420T141103
DTSTART;TZID=Europe/Berlin:20241126T193000
DTEND;TZID=Europe/Berlin:20241126T223000
SUMMARY:TTC Winden II vs TV Germania Obermaubach
LOCATION:Turnhalle Winden\, Maubacherstraße\, Eingang Urbanusstraße\, 52
 372 Kreuzau-Winden\, Deutschland
DESCRIPTION:Vorrunde
END:VEVENT
BEGIN:VEVENT
UID:d67c7aba-bd61-4ae8-9a3f-cf3c3ecd9e83
SEQUENCE:0
DTSTAMP:20260420T141103
DTSTART;TZID=Europe/Berlin:20250114T193000
DTEND;TZID=Europe/Berlin:20250114T223000
SUMMARY:TTC Winden II vs TTC Merzenich II
LOCATION:Turnhalle Winden\, Maubacherstraße\, Eingang Urbanusstraße\, 52
 372 Kreuzau-Winden\, Deutschland
DESCRIPTION:Rückrunde
END:VEVENT
BEGIN:VEVENT
UID:8076f1bd-90e9-44f4-bb88-4360c64b4ccb
SEQUENCE:0
DTSTAMP:20260420T141103
DTSTART;TZID=Europe/Berlin:20250121T193000
DTEND;TZID=Europe/Berlin:20250121T223000
SUMMARY:TTC Winden II vs TTC BW Wollersheim II
LOCATION:Turnhalle Winden\, Maubacherstraße\, Eingang Urbanusstraße\, 52
 372 Kreuzau-Winden\, Deutschland
DESCRIPTION:Rückrunde
END:VEVENT
BEGIN:VEVENT
UID:b540c27a-e548-4eca-bc70-de577768630a
SEQUENCE:0
DTSTAMP:20260420T141103
DTSTART;TZID=Europe/Berlin:20250128T193000
DTEND;TZID=Europe/Berlin:20250128T223000
SUMMARY:TTC Winden II vs TTC Gürzenich III
LOCATION:Turnhalle Winden\, Maubacherstraße\, Eingang Urbanusstraße\, 52
 372 Kreuzau-Winden\, Deutschland
DESCRIPTION:Rückrunde
END:VEVENT
BEGIN:VEVENT
UID:dd0d1f61-58ef-4a6f-85cd-75b2aa3af94f
SEQUENCE:0
DTSTAMP:20260420T141103
DTSTART;TZID=Europe/Berlin:20250211T193000
DTEND;TZID=Europe/Berlin:20250211T223000
SUMMARY:TTC Mariaweiler II vs TTC Winden II
LOCATION:Anne-Frank-Gesamtschule\, Kupfermühle\, 52353 Düren\, Deutschla
 nd
DESCRIPTION:Rückrunde
END:VEVENT
BEGIN:VEVENT
UID:a1e6c502-b018-4f7b-8ef9-f42d9ede9cda
SEQUENCE:0
DTSTAMP:20260420T141103
DTSTART;TZID=Europe/Berlin:20250218T193000
DTEND;TZID=Europe/Berlin:20250218T223000
SUMMARY:TTF Nörvenich/Eschweiler II vs TTC Winden II
LOCATION:Grundschule Eschweiler über Feld\, Josefstr. 2\, 52388 Nörvenic
 h\, Deutschland
DESCRIPTION:Rückrunde
END:VEVENT
BEGIN:VEVENT
UID:093443ec-2918-44fb-a079-b47a369df4ef
SEQUENCE:0
DTSTAMP:20260420T141103
DTSTART;TZID=Europe/Berlin:20250305T190000
DTEND;TZID=Europe/Berlin:20250305T220000
SUMMARY:TTF Kreuzau V vs TTC Winden II
LOCATION:Sportzentrum Kreuzau\, Windener Weg\, 52372 Kreuzau\, Deutschland
DESCRIPTION:Rückrunde
END:VEVENT
BEGIN:VEVENT
UID:683560a2-f6ee-4db9-a944-b0e9676d3b88
SEQUENCE:0
DTSTAMP:20260420T141103
DTSTART;TZID=Europe/Berlin:20250321T193000
DTEND;TZID=Europe/Berlin:20250321T223000
SUMMARY:TTV Gey II vs TTC Winden II
LOCATION:Turnhalle Gey\, Broichstr.14\, 52393 Hürtgenwald\, Deutschland
DESCRIPTION:Rückrunde
END:VEVENT
BEGIN:VEVENT
UID:663d63bf-79d0-4711-ac75-5d331f42e6d4
SEQUENCE:0
DTSTAMP:20260420T141103
DTSTART;TZID=Europe/Berlin:20250325T193000
DTEND;TZID=Europe/Berlin:20250325T223000
SUMMARY:TTC Winden II vs TV 1847 Düren IV
LOCATION:Turnhalle Winden\, Maubacherstraße\, Eingang Urbanusstraße\, 52
 372 Kreuzau-Winden\, Deutschland
DESCRIPTION:Rückrunde
END:VEVENT
BEGIN:VEVENT
UID:7799c716-147b-4abd-b15d-7e6b8f302d2f
SEQUENCE:0
DTSTAMP:20260420T141103
DTSTART;TZID=Europe/Berlin:20250404T200000
DTEND;TZID=Europe/Berlin:20250404T230000
SUMMARY:TV Germania Obermaubach vs TTC Winden II
LOCATION:Turnhalle an der Grundschule Obermaubach\, Hinter den Gärten 1\,
  52372  Kreuzau\, Deutschland
DESCRIPTION:Rückrunde
END:VEVENT
END:VCALENDAR