BEGIN:VCALENDAR
VERSION:2.0
PRODID:-//sebbo.net//ical-generator//EN
URL:https://www.mytischtennis.de/community/exportICSCalendar?teamids=27076
 43
NAME:Termine von ESV München-Freimann II
X-WR-CALNAME:Termine von ESV München-Freimann II
TIMEZONE-ID:Europe/Berlin
X-WR-TIMEZONE:Europe/Berlin
BEGIN:VEVENT
UID:d3874601-2175-4d82-8673-ff2100d1b094
SEQUENCE:0
DTSTAMP:20260423T062726
DTSTART;TZID=Europe/Berlin:20230920T174500
DTEND;TZID=Europe/Berlin:20230920T204500
SUMMARY:TSV Eintracht Karlsfeld  II vs ESV München-Freimann II
DESCRIPTION:Vorrunde
END:VEVENT
BEGIN:VEVENT
UID:0abd5fb6-ddf2-4717-8a6b-29a390e1fdaf
SEQUENCE:0
DTSTAMP:20260423T062726
DTSTART;TZID=Europe/Berlin:20230925T180000
DTEND;TZID=Europe/Berlin:20230925T210000
SUMMARY:ESV München-Freimann II vs SV Lohhof e.V. II
LOCATION:TT-Halle des ESV München-Freimann\, Frankplatz 15\, 80939 Münch
 en\, Deutschland
DESCRIPTION:Vorrunde
END:VEVENT
BEGIN:VEVENT
UID:aa1eebec-adfa-47cd-beec-d75e1bd0af13
SEQUENCE:0
DTSTAMP:20260423T062726
DTSTART;TZID=Europe/Berlin:20231009T180000
DTEND;TZID=Europe/Berlin:20231009T210000
SUMMARY:ESV München-Freimann II vs SV Weichs
LOCATION:TT-Halle des ESV München-Freimann\, Frankplatz 15\, 80939 Münch
 en\, Deutschland
DESCRIPTION:Vorrunde
END:VEVENT
BEGIN:VEVENT
UID:07489853-a13c-4834-9fe1-6c2cc40d869a
SEQUENCE:0
DTSTAMP:20260423T062726
DTSTART;TZID=Europe/Berlin:20231111T100000
DTEND;TZID=Europe/Berlin:20231111T130000
SUMMARY:TSV Dachau 65 VI vs ESV München-Freimann II
DESCRIPTION:Vorrunde
END:VEVENT
BEGIN:VEVENT
UID:6df756f8-e2ef-41d2-b554-e3a53cf1d2bd
SEQUENCE:0
DTSTAMP:20260423T062726
DTSTART;TZID=Europe/Berlin:20231120T181500
DTEND;TZID=Europe/Berlin:20231120T211500
SUMMARY:SV Weichs II vs ESV München-Freimann II
LOCATION:Turnhalle Grundschule Weichs\, Fränkinger Straße 9\, 85258 Weic
 hs\, Deutschland
DESCRIPTION:Vorrunde
END:VEVENT
BEGIN:VEVENT
UID:29c183d5-5510-4cd3-a870-64026a337ac5
SEQUENCE:0
DTSTAMP:20260423T062726
DTSTART;TZID=Europe/Berlin:20231127T180000
DTEND;TZID=Europe/Berlin:20231127T210000
SUMMARY:ESV München-Freimann II vs SpVgg Erdweg 
LOCATION:TT-Halle des ESV München-Freimann\, Frankplatz 15\, 80939 Münch
 en\, Deutschland
DESCRIPTION:Vorrunde
END:VEVENT
BEGIN:VEVENT
UID:8185ea23-b6cc-47ce-bfd4-aa4cba8420fa
SEQUENCE:0
DTSTAMP:20260423T062726
DTSTART;TZID=Europe/Berlin:20231204T180000
DTEND;TZID=Europe/Berlin:20231204T210000
SUMMARY:ESV München-Freimann II vs TC Lauterbach II
LOCATION:TT-Halle des ESV München-Freimann\, Frankplatz 15\, 80939 Münch
 en\, Deutschland
DESCRIPTION:Vorrunde
END:VEVENT
BEGIN:VEVENT
UID:c87e4138-8468-4117-9cf0-81a6b745de1c
SEQUENCE:0
DTSTAMP:20260423T062726
DTSTART;TZID=Europe/Berlin:20231208T171500
DTEND;TZID=Europe/Berlin:20231208T201500
SUMMARY:TTC München-Nord III vs ESV München-Freimann II
LOCATION:Schulturnhalle Am Schnepfenweg\, Feldmochinger Str. 251 / Zugang 
 über Am Schnepfenweg\, 80992 München\, Deutschland
DESCRIPTION:Vorrunde
END:VEVENT
END:VCALENDAR