BEGIN:VCALENDAR
VERSION:2.0
PRODID:-//sebbo.net//ical-generator//EN
URL:https://www.mytischtennis.de/community/exportICSCalendar?teamids=27074
 91
NAME:Termine von ESV München-Freimann II
X-WR-CALNAME:Termine von ESV München-Freimann II
TIMEZONE-ID:Europe/Berlin
X-WR-TIMEZONE:Europe/Berlin
BEGIN:VEVENT
UID:2c5d2d2d-3f9a-46ad-b5c6-07647c25f846
SEQUENCE:0
DTSTAMP:20260424T023518
DTSTART;TZID=Europe/Berlin:20231006T200000
DTEND;TZID=Europe/Berlin:20231006T230000
SUMMARY:SV Buxheim vs ESV München-Freimann II
LOCATION:Turnhalle Buxheim\, Breitwiesweg 10\, 85114 Buxheim\, Deutschland
DESCRIPTION:Vorrunde
END:VEVENT
BEGIN:VEVENT
UID:325a9df4-efe7-4647-a4d2-1d5d09a1ba65
SEQUENCE:0
DTSTAMP:20260424T023518
DTSTART;TZID=Europe/Berlin:20231110T193000
DTEND;TZID=Europe/Berlin:20231110T223000
SUMMARY:SV Haiming vs ESV München-Freimann II
LOCATION:Ballsporthalle hinter Schulturnhalle\, Hauptstraße 24 \, 84533 H
 aiming\, Deutschland
DESCRIPTION:Vorrunde
END:VEVENT
BEGIN:VEVENT
UID:e28937b0-e6b0-4c38-98d5-c2ab0c981c7d
SEQUENCE:0
DTSTAMP:20260424T023518
DTSTART;TZID=Europe/Berlin:20231111T173000
DTEND;TZID=Europe/Berlin:20231111T203000
SUMMARY:ESV München-Freimann II vs FC Chamerau
DESCRIPTION:Vorrunde
END:VEVENT
BEGIN:VEVENT
UID:407c7a51-0355-4441-8179-50f666150016
SEQUENCE:0
DTSTAMP:20260424T023518
DTSTART;TZID=Europe/Berlin:20231119T110000
DTEND;TZID=Europe/Berlin:20231119T140000
SUMMARY:TTC Freising-Lerchenfeld II vs ESV München-Freimann II
LOCATION:Spiele: Schulturnhalle Grundschule St. Lantbert\, Kepserstraße 4
 \, 85356 Freising\, Deutschland
DESCRIPTION:Vorrunde
END:VEVENT
BEGIN:VEVENT
UID:4d450114-6d6c-4aa3-9938-d6453cc5bf00
SEQUENCE:0
DTSTAMP:20260424T023518
DTSTART;TZID=Europe/Berlin:20231125T140000
DTEND;TZID=Europe/Berlin:20231125T170000
SUMMARY:ESV München-Freimann II vs DJK SB Landshut  III
LOCATION:TT-Halle des ESV München-Freimann\, Frankplatz 15\, 80939 Münch
 en\, Deutschland
DESCRIPTION:Vorrunde
END:VEVENT
BEGIN:VEVENT
UID:8e4a8607-db4d-470b-a4f1-d22c7a582ccc
SEQUENCE:0
DTSTAMP:20260424T023518
DTSTART;TZID=Europe/Berlin:20231209T140000
DTEND;TZID=Europe/Berlin:20231209T170000
SUMMARY:ESV München-Freimann II vs TTC Freising-Lerchenfeld
LOCATION:TT-Halle des ESV München-Freimann\, Frankplatz 15\, 80939 Münch
 en\, Deutschland
DESCRIPTION:Vorrunde
END:VEVENT
BEGIN:VEVENT
UID:b16a18eb-503b-44bb-acfe-fd8b5a04efee
SEQUENCE:0
DTSTAMP:20260424T023518
DTSTART;TZID=Europe/Berlin:20231210T133000
DTEND;TZID=Europe/Berlin:20231210T163000
SUMMARY:ESV München-Freimann II vs SV Ohu-Ahrain
LOCATION:TT-Halle des ESV München-Freimann\, Frankplatz 15\, 80939 Münch
 en\, Deutschland
DESCRIPTION:Vorrunde
END:VEVENT
BEGIN:VEVENT
UID:5e1da0fd-c7b3-4bff-a918-1354c6088525
SEQUENCE:0
DTSTAMP:20260424T023518
DTSTART;TZID=Europe/Berlin:20240203T133000
DTEND;TZID=Europe/Berlin:20240203T163000
SUMMARY:DJK SB Landshut  III vs ESV München-Freimann II
LOCATION:Turnhalle der Nikolaschule\, Nikolastr. 2 - 4\, 84034 Landshut\, 
 Deutschland
DESCRIPTION:Rückrunde
END:VEVENT
BEGIN:VEVENT
UID:f4287e73-c4cd-46d6-be25-78ee1924cc19
SEQUENCE:0
DTSTAMP:20260424T023518
DTSTART;TZID=Europe/Berlin:20240211T140000
DTEND;TZID=Europe/Berlin:20240211T170000
SUMMARY:TTC Freising-Lerchenfeld vs ESV München-Freimann II
LOCATION:Spiele: Schulturnhalle Grundschule St. Lantbert\, Kepserstraße 4
 \, 85356 Freising\, Deutschland
DESCRIPTION:Rückrunde
END:VEVENT
BEGIN:VEVENT
UID:990f2089-a230-40ff-8110-63b19f4af356
SEQUENCE:0
DTSTAMP:20260424T023518
DTSTART;TZID=Europe/Berlin:20240224T140000
DTEND;TZID=Europe/Berlin:20240224T170000
SUMMARY:ESV München-Freimann II vs SV Haiming
LOCATION:TT-Halle des ESV München-Freimann\, Frankplatz 15\, 80939 Münch
 en\, Deutschland
DESCRIPTION:Rückrunde
END:VEVENT
BEGIN:VEVENT
UID:d4847e7b-dac6-4fd4-93e1-a191d24abc7f
SEQUENCE:0
DTSTAMP:20260424T023518
DTSTART;TZID=Europe/Berlin:20240309T170000
DTEND;TZID=Europe/Berlin:20240309T200000
SUMMARY:SV Ohu-Ahrain vs ESV München-Freimann II
LOCATION:Schulturnhalle Ahrain (an der Kirche)\, Landshuter Straße 8b\, 8
 4051 Essenbach/ Oberahrain\, Deutschland
DESCRIPTION:Rückrunde
END:VEVENT
BEGIN:VEVENT
UID:f31155cd-93e6-4cc1-bf61-d20d2303c74b
SEQUENCE:0
DTSTAMP:20260424T023518
DTSTART;TZID=Europe/Berlin:20240315T200000
DTEND;TZID=Europe/Berlin:20240315T230000
SUMMARY:ESV München-Freimann II vs SV Buxheim
LOCATION:TT-Halle des ESV München-Freimann\, Frankplatz 15\, 80939 Münch
 en\, Deutschland
DESCRIPTION:Rückrunde
END:VEVENT
BEGIN:VEVENT
UID:a5253eb3-182f-46ce-806b-3a06c71530de
SEQUENCE:0
DTSTAMP:20260424T023518
DTSTART;TZID=Europe/Berlin:20240317T150000
DTEND;TZID=Europe/Berlin:20240317T180000
SUMMARY:FC Chamerau vs ESV München-Freimann II
LOCATION:Schulturnhalle Volksschule Chamerau\, Schulstraße 6\, 93466 Cham
 erau\, Deutschland
DESCRIPTION:Rückrunde
END:VEVENT
BEGIN:VEVENT
UID:44c4dac3-657d-415b-8f72-3a82ebe11449
SEQUENCE:0
DTSTAMP:20260424T023518
DTSTART;TZID=Europe/Berlin:20240406T140000
DTEND;TZID=Europe/Berlin:20240406T170000
SUMMARY:ESV München-Freimann II vs TTC Freising-Lerchenfeld II
LOCATION:TT-Halle des ESV München-Freimann\, Frankplatz 15\, 80939 Münch
 en\, Deutschland
DESCRIPTION:Rückrunde
END:VEVENT
END:VCALENDAR