BEGIN:VCALENDAR
VERSION:2.0
PRODID:-//sebbo.net//ical-generator//EN
URL:https://www.mytischtennis.de/community/exportICSCalendar?teamids=27050
 30
NAME:Termine von ESV München-Freimann
X-WR-CALNAME:Termine von ESV München-Freimann
TIMEZONE-ID:Europe/Berlin
X-WR-TIMEZONE:Europe/Berlin
BEGIN:VEVENT
UID:c1870ae3-172b-4776-b347-600390e68ea0
SEQUENCE:0
DTSTAMP:20260421T132941
DTSTART;TZID=Europe/Berlin:20240317T120000
DTEND;TZID=Europe/Berlin:20240317T150000
SUMMARY:SV Schwarz-Weiß München 1931 vs ESV München-Freimann
LOCATION:Hauptschule\, Inzeller Weg 4\, 81825 München\, Deutschland
DESCRIPTION:Rückrunde
END:VEVENT
BEGIN:VEVENT
UID:ca2e7443-0bea-4f3b-b8bc-1d2744f8f9a4
SEQUENCE:0
DTSTAMP:20260421T132941
DTSTART;TZID=Europe/Berlin:20240317T133000
DTEND;TZID=Europe/Berlin:20240317T163000
SUMMARY:SG Dösingen vs ESV München-Freimann
LOCATION:Turnhalle der Verbandsschule\, Westendorf\, Alpenblick 3a\, 87679
  Westendorf\, Deutschland
DESCRIPTION:Rückrunde
END:VEVENT
BEGIN:VEVENT
UID:4880ab03-7e01-448a-a9d8-d2f7e1de7379
SEQUENCE:0
DTSTAMP:20260421T132941
DTSTART;TZID=Europe/Berlin:20240317T150000
DTEND;TZID=Europe/Berlin:20240317T180000
SUMMARY:ESV München-Freimann vs TSV Zusmarshausen
LOCATION:TT-Halle des ESV München-Freimann\, Frankplatz 15\, 80939 Münch
 en\, Deutschland
DESCRIPTION:Rückrunde
END:VEVENT
END:VCALENDAR